BEGIN:VCALENDAR
VERSION:2.0
PRODID:-//wp-events-plugin.com//7.2.3.1//EN
TZID:Europe/Rome
X-WR-TIMEZONE:Europe/Rome
BEGIN:VEVENT
UID:32163@lazioeventi.com
DTSTART;TZID=Europe/Rome:20220911T213000
DTEND;TZID=Europe/Rome:20220911T213000
DTSTAMP:20220902T165549Z
URL:https://lazioeventi.com/eventi/hit-parade-tour
SUMMARY:Hit Parade Tour - Fara in Sabina - 11 Settembre 22 21:30
DESCRIPTION:Domenica 11 settembre arriva a Passo Corese (Rieti) “Hit Para
 de Summer Tour”\, lo spettacolo di Marcello Cirillo e Demo Morselli che 
 per il dodicesimo anno consecutivo sta girando  l’Italia con grande suc
 cesso di critica e di pubblico. "Hit Parade Tour” è un'alchimia perfett
 a che mescola i mille talenti di Marcello Cirillo e demo Morselli. Lo spet
 tacolo nel corso degli anni si è sempre evoluto\; su ogni palco è avvenu
 to qualche naturale cambiamento\, e così avverrà anche nelle date future
 \, cercando di entusiasmare ed emozionare sempre le platee che incontrerà
 . “Hit Parade” è un viaggio fra grandi successi\, pezzi teatrali\, ca
 nzoni della tradizione napoletana\, narrazione e improvvisazione. Lo spett
 acolo è\, dunque\,  una fusione fra raffinatezza e travolgente energia\,
  “Hit Parade Tour” non è solo un concerto\, ma uno spettacolo complet
 o\, con Marcello Cirillo che sul palco canta\, balla\, recita\, interagisc
 e con il pubblico\, regala gag giocando con la sua big band diretta dal Ma
 estro demo morselli\, e insieme Cirillo e morselli Per oltre due ore trasf
 ormano il palco in un luogo magico\, una sorta di paese dei balocchi\, dov
 e tutto è possibile.\n\nMarcello Cirillo e Demo Morselli insieme per il D
 odicesimo anno consecutivo percorreranno l’Italia con il loro “Hit Par
 ade Tour 2022”. Lo spettacolo\, celebrerà la musica italiana e internaz
 ionale\, ma anche la consolidata amicizia tra i due artisti\, coinvolgendo
  il pubblico in un vortice crescente di emozioni e di divertimento. un mix
  di ricordi\, che vi aspetta nelle più belle piazze italiane. Info tour:\
 n\nhttps://www.facebook.com/hitparadetour/\n\nL’appuntamento è per dome
 nica 11 settembre\, alle ore 21:30 in piazza a Passo Corese (Rieti).\n\n&n
 bsp\;\n\n&nbsp\;\n\n&nbsp\;
ATTACH;FMTTYPE=image/jpeg:https://lazioeventi.com/wp-content/uploads/2022/
 09/e67b3669-fe58-405f-ad51-4135bfdddbbe-1.jpg
CATEGORIES:Musica, Spettacoli e Danza nel Lazio
LOCATION:Fara in Sabina\, Comune\, Fara in Sabina\, Rieti\, Lazio\, Italia
GEO:42.2099;12.7291
X-APPLE-STRUCTURED-LOCATION;VALUE=URI;X-ADDRESS=Comune\, Fara in Sabina\, R
 ieti\, Lazio\, Italia;X-APPLE-RADIUS=100;X-TITLE=Fara in Sabina:geo:42.209
 9,12.7291
END:VEVENT
BEGIN:VTIMEZONE
TZID:Europe/Rome
X-LIC-LOCATION:Europe/Rome
BEGIN:DAYLIGHT
DTSTART:20220327T030000
TZOFFSETFROM:+0100
TZOFFSETTO:+0200
TZNAME:CEST
END:DAYLIGHT
END:VTIMEZONE
END:VCALENDAR