BEGIN:VCALENDAR
VERSION:2.0
PRODID:-//wp-events-plugin.com//7.2.3.1//EN
TZID:Europe/Rome
X-WR-TIMEZONE:Europe/Rome
BEGIN:VEVENT
UID:43781@lazioeventi.com
DTSTART;TZID=Europe/Rome;VALUE=DATE:20260226
DTEND;TZID=Europe/Rome;VALUE=DATE:20260309
DTSTAMP:20260223T150418Z
URL:https://lazioeventi.com/eventi/ho-imparato-a-sognare
SUMMARY:Ho Imparato a Sognare - Roma - 26 Febbraio 26 00:00
DESCRIPTION:Dopo il grande successo della scorsa stagione con Si vede che e
 ra destino\, Luca Giacomozzi torna a firmare testo e regia di una nuova\, 
 intensa commedia interpretata da Attilio Fontana\, Claudia Ferri\, Frances
 ca Pausilli ed Emiliano Reggente. \n\n Ho imparato a sognare è un raccont
 o vibrante di ironia e umanità che attraversa le vite di Mirko\, Bruno\, 
 Michela e Asia\, quattro anime agli antipodi\, unite da fragilità\, error
 i e desideri mai del tutto spenti. Tra cadute\, sorrisi e piccole conquist
 e quotidiane\, i protagonisti imparano a fare pace con il passato e a risc
 oprire il coraggio di guardare avanti. Uno spettacolo che emoziona\, fa so
 rridere e ricorda quanto sia necessario — oggi più che mai — continua
 re a sognare.\n\nHo imparato a sognare è una commedia brillante\, emotiva
  e profondamente umana\, capace di alternare risate e commozione\, mostran
 do come le vite più ordinarie possano contenere rivoluzioni silenziose. U
 na storia di amicizia\, amore\, perdita e rinascita\, dove ognuno impara c
 he il coraggio non sta nel non cadere\, ma nel continuare a rialzarsi.\n\n
 \nHO IMPARATO A SOGNARE\nScritto e diretto da Luca Giacomozzi\nCon Attilio
  Fontana\, Claudia Ferri\, Emiliano Reggente e Francesca Pausilli\nScenogr
 afie: Michele Funghi\nCostumi: Carlotta De Rossi\nAssistente alla regia: V
 alentina Pastorello\nTrucco: Barbara Ninetti\nAudio e luci: Stefano Losito
 \nTecnico di palco: Lorenzo De Marco\n\nORARIO SPETTACOLI:\n\n1° settiman
 a:\ngiovedì ore 21.00\nvenerdì ore 21.00\nsabato ore 17.00 e 21.00\ndome
 nica ore 17.30\n \n2°settimana:\ngiovedì ore 21.00\nvenerdì ore 21.00\n
 sabato ore 17.00 e 21.00\ndomenica ore 17.30\n \nPrezzo biglietto: Intero
  € 27\,00 (comprensivo di prevendita)\n \nParcheggio custodito – Via 
 Umbertide\, 27\n \nTeatro Roma – Via Umbertide\, 3 – 00181 Roma\nOr
 ari botteghino: dal lunedì al sabato dalle ore 16.00 alle 20.00\nInfo 
 & prenotazioni: Tel. 06 78 50 626  - Whatsapp 324 54 98 051
ATTACH;FMTTYPE=image/jpeg:https://lazioeventi.com/wp-content/uploads/2026/
 02/1.jpeg
CATEGORIES:Musica, Spettacoli e Danza nel Lazio
LOCATION:Roma\, Via Leopardi\, Roma\, Roma\, Lazio\, Italia
GEO:41.8942;12.5017
X-APPLE-STRUCTURED-LOCATION;VALUE=URI;X-ADDRESS=Via Leopardi\, Roma\, Roma\
 , Lazio\, Italia;X-APPLE-RADIUS=100;X-TITLE=Roma:geo:41.8942,12.5017
END:VEVENT
BEGIN:VTIMEZONE
TZID:Europe/Rome
X-LIC-LOCATION:Europe/Rome
BEGIN:STANDARD
DTSTART:20251026T020000
TZOFFSETFROM:+0200
TZOFFSETTO:+0100
TZNAME:CET
END:STANDARD
END:VTIMEZONE
END:VCALENDAR