BEGIN:VCALENDAR
VERSION:2.0
PRODID:-//wp-events-plugin.com//7.2.3.1//EN
TZID:Europe/Rome
X-WR-TIMEZONE:Europe/Rome
BEGIN:VEVENT
UID:36842@lazioeventi.com
DTSTART;TZID=Europe/Rome:20230906T150000
DTEND;TZID=Europe/Rome:20230906T180000
DTSTAMP:20230830T070320Z
URL:https://lazioeventi.com/eventi/honey-day
SUMMARY:Honey day - Cassino - 6 Settembre 23 15:00
DESCRIPTION:Un pomeriggio dedicato alla magia delle api e al fascino del mi
 ele mercoledì 6 Settembre alle 15:00 al Palazzo della Cultura.\n\nIL PROG
 RAMMA:\n\nESCAPE ROOM - "Lo Spirito del Monastero": Addentrati nel Monaste
 ro e scopri dove si trova l’antica ricetta del miele Gaudium\, custodita
  gelosamente dai frati! Raduna il tuo gruppo (6 persone) e tuffati nell'en
 igma. Prenotazione obbligatoria\, quota di iscrizione: 8€. \nPer prenota
 re contatta: Lorena 333 630 5920 o Simona 320 351 3796.\n\nLABORATORI CREA
 TIVI PER BAMBINI - "Alla Scoperta delle Api": I più giovani esploreranno 
 il mondo delle api attraverso attività ludiche e creative. \nPrenota subi
 to scrivendo a @palazzodellaculturacassino. \nPrenotazione obbligatoria\, 
 START ore 17:00.\n\nAPERITIVO A TEMA: Delizia il tuo palato con un aperiti
 vo speciale preparato con il miele Gaudium prodotto da Autentica Cooperati
 va Sociale. \nGusto e salute si fonderanno in un connubio di sapori.\n\nNo
 n perdere l'occasione di vivere un pomeriggio educativo e coinvolgente in 
 compagnia delle api\, degli aromi del miele e di tante avventure!\n
ATTACH;FMTTYPE=image/jpeg:https://lazioeventi.com/wp-content/uploads/2023/
 08/honey-day.jpg
CATEGORIES:Arte e Cultura nel Lazio,Varie
LOCATION:Cassino\, Comune di Cassino\, Cassino\, Frosinone\, Lazio\, Italia
GEO:41.4929518;13.830372300000022
X-APPLE-STRUCTURED-LOCATION;VALUE=URI;X-ADDRESS=Comune di Cassino\, Cassino
 \, Frosinone\, Lazio\, Italia;X-APPLE-RADIUS=100;X-TITLE=Cassino:geo:41.49
 29518,13.830372300000022
END:VEVENT
BEGIN:VTIMEZONE
TZID:Europe/Rome
X-LIC-LOCATION:Europe/Rome
BEGIN:DAYLIGHT
DTSTART:20230326T030000
TZOFFSETFROM:+0100
TZOFFSETTO:+0200
TZNAME:CEST
END:DAYLIGHT
END:VTIMEZONE
END:VCALENDAR