BEGIN:VCALENDAR
VERSION:2.0
PRODID:-//wp-events-plugin.com//7.2.3.1//EN
TZID:Europe/Rome
X-WR-TIMEZONE:Europe/Rome
BEGIN:VEVENT
UID:31010@lazioeventi.com
DTSTART;TZID=Europe/Rome:20220623T213000
DTEND;TZID=Europe/Rome:20220623T233000
DTSTAMP:20220519T064926Z
URL:https://lazioeventi.com/eventi/hot-spaces-queen-celebration
SUMMARY:Hot Spaces - Queen Celebration - Genzano di Roma - 23 Giugno 22 21:
 30
DESCRIPTION:Gli Hot Spaces saranno di scena giovedi 23 Giugno a Genzano in 
 Piazza Sforza Cesarini per la IV edizione di "Malti da legare" con birra\,
  cibo e musica live!\n\nProporremo 2 ore di spettacolo per far rivivere la
  magia della musica di Freddie Mercury e dei Queen!\nLa band nasce nel 200
 6 per mano del batterista Emanuele Sciamanna.\n\nFin da subito le idee son
 o chiare: creare uno spettacolo Tributo ai Queen ad altissimi livelli\, ba
 sato sulla massima fedeltà di sound del quartetto Inglese\, impregnato da
  una forte matrice rock.\nIl nome della band rievoca il noto album "Hot Sp
 ace" firmato Queen e datato 1982.\n\nIl progetto prende forma e si uniscon
 o il chitarrista Valerio Capodagli\, il bassista/corista Vincenzo "Sancio"
  Panza\, il tastierista/corista Daniele Cheloni ed il cantante William Gra
 ni\, tutti legati da un'unica grande passione: l'amore per i Queen.\n\nLa 
 passione per i Queen e la continua ricerca dei dettagli nel riprodurli\, h
 anno portato gli HOT SPACES\, dal 2006 ad oggi\, ad esibirsi in tutto il L
 azio\, nei più importanti locali di musica live e nei grandi eventi all'a
 perto.\nLa setlist degli Hot Spaces verte principalmente sulle hit più co
 nosciute e si basa in gran parte sul famoso Live At Wembley '86.\n\nGli ar
 rangiamenti di riferimento sono di fatto tutte versioni live (principalmen
 te Wembley '86 e Montreal '81) ma non mancano i classici degli anni '70\, 
 qualche chicca di Freddie Mercury solista\, ed alcune rivisitazioni per br
 ani mai eseguiti live dai Queen dell'ultimo periodo come "Innuendo"\, "The
 se are the days of our lives"\, "I was born to love you" \, "I want it all
 "\, ecc....\n\nNel 2009 gli Hot Spaces vincono la prima edizione del Festi
 val Musicale di Artena come miglior gruppo partecipante con votazione unan
 ime.\n\nGli Hot Spaces sono:\nWilliam Grani - Lead Vocals\nValerio Capodag
 li - Guitar\nVincenzo "Sancio" Panza - Bass/Vocals\nDaniele Cheloni - Keyb
 oards/Vocals/Sequencing/Videos\nEmanuele Sciamanna - Drums
ATTACH;FMTTYPE=image/jpeg:https://lazioeventi.com/wp-content/uploads/2022/
 05/hot-spaces.jpg
CATEGORIES:Musica, Spettacoli e Danza nel Lazio
LOCATION:Genzano di Roma\, Comune di Genzano di Roma\, Genzano di Roma\, Ro
 ma\, Lazio\, Italia
GEO:41.7074;12.6901
X-APPLE-STRUCTURED-LOCATION;VALUE=URI;X-ADDRESS=Comune di Genzano di Roma\,
  Genzano di Roma\, Roma\, Lazio\, Italia;X-APPLE-RADIUS=100;X-TITLE=Genzan
 o di Roma:geo:41.7074,12.6901
END:VEVENT
BEGIN:VTIMEZONE
TZID:Europe/Rome
X-LIC-LOCATION:Europe/Rome
BEGIN:DAYLIGHT
DTSTART:20220327T030000
TZOFFSETFROM:+0100
TZOFFSETTO:+0200
TZNAME:CEST
END:DAYLIGHT
END:VTIMEZONE
END:VCALENDAR