BEGIN:VCALENDAR
VERSION:2.0
PRODID:-//wp-events-plugin.com//7.2.3.1//EN
TZID:Europe/Rome
X-WR-TIMEZONE:Europe/Rome
BEGIN:VEVENT
UID:28807@lazioeventi.com
DTSTART;TZID=Europe/Rome:20211024T100000
DTEND;TZID=Europe/Rome:20211024T130000
DTSTAMP:20211020T083841Z
URL:https://lazioeventi.com/eventi/i-baglioni-lomini-larme-e-lonor
SUMMARY:I Baglioni - l’omini\, l’arme e l’onor… - Graffignano - 24 
 Ottobre 21 10:00
DESCRIPTION:CAMMINO IN NARRAZIONE “I BAGLIONI - L’OMINI\, L’ARME E L
 ’ONOR”\n\n\ndi  Aurora Montanaro\n\nDomenica 24 ottobre\, alle ore 10
 :00\, l’associazione socio-culturale Il fascino del passato organizza un
  cammino in narrazione a Sipicciano (frazione di Graffignano\, Viterbo)\, 
 dal titolo “I Baglioni -l’omini\, l’arme e l’onor…”\, patrocin
 ato dal Comune di Graffignano\, con il sostegno della Proloco di Sipiccian
 o.\n\nUn’esperienza unica che catapulterà tutti\, adulti e bambini\, in
  una dimensione storica spazio-temporale\, ripercorrendo le orme della fam
 iglia Baglioni\, in particolar modo soffermandosi su importanti figure com
 e Pirro e Alberto Baglioni. Partenza da Piazza Umberto I e arrivo al parco
  Poggio del Castagno\, un’immensità naturale. Al termine del cammino\, 
 verrà offerto un aperitivo a tutti i partecipanti. Il cammino sarà in ab
 ito storico\, a cura dell’attore e Narratore di Comunità Unitus Marco R
 ossi. All’inizio dell’evento verrà lanciato inoltre il Contest fotogr
 afico “Il fascino del passato”\, un’occasione per mettersi in gioco 
 e immortalare scorci\, panorami e vedute durante il cammino: le foto più 
 belle ed emozionanti verranno premiate con dei premi culturali.\n\nPARTECI
 PAZIONE GRATUITA\, e nel rispetto delle normative anticovid-19.\n\nPer inf
 o e prenotazioni\, contattare l’Associazione socio-culturale Il fascino 
 del passato\n\nWhatsapp: 329 1315380\n\nFacebook: Il fascino del passato\n
 \nInstagram: ilfascino_delpassato\n\nMail: ilfascinodelpassato@gmail.com\n
 \nSito web: https://ilfascinodelpassat.wixsite.com/ilfascinodelpassato/pre
 nota-online\n\n
ATTACH;FMTTYPE=image/jpeg:https://lazioeventi.com/wp-content/uploads/2021/
 10/sip.jpg
CATEGORIES:Arte e Cultura nel Lazio,Sport, Tempo Libero e Divertimento nel
 Lazio
LOCATION:Graffignano\, Comune\, Graffignano\, Viterbo\, Lazio\, Italia
GEO:42.5733;12.2043
X-APPLE-STRUCTURED-LOCATION;VALUE=URI;X-ADDRESS=Comune\, Graffignano\, Vite
 rbo\, Lazio\, Italia;X-APPLE-RADIUS=100;X-TITLE=Graffignano:geo:42.5733,12
 .2043
END:VEVENT
BEGIN:VTIMEZONE
TZID:Europe/Rome
X-LIC-LOCATION:Europe/Rome
BEGIN:DAYLIGHT
DTSTART:20210328T030000
TZOFFSETFROM:+0100
TZOFFSETTO:+0200
TZNAME:CEST
END:DAYLIGHT
END:VTIMEZONE
END:VCALENDAR