BEGIN:VCALENDAR
VERSION:2.0
PRODID:-//wp-events-plugin.com//7.2.3.1//EN
TZID:Europe/Rome
X-WR-TIMEZONE:Europe/Rome
BEGIN:VEVENT
UID:28237@lazioeventi.com
DTSTART;TZID=Europe/Rome:20210530T093000
DTEND;TZID=Europe/Rome:20210530T150000
DTSTAMP:20210523T150038Z
URL:https://lazioeventi.com/eventi/i-cammini-nella-natura-riserva-lago-di-
 canterno
SUMMARY:I cammini nella Natura - Riserva lago di Canterno - Fiuggi - 30 Mag
 gio 21 09:30
DESCRIPTION:Escursione Naturalistica “Zona di Riproduzione presso la Garz
 aia più alta in quota del Lazio” Riserva Naturale Di Canterno.\n\nL’o
 ccasione permetterà ai partecipanti “oltre ad avere la possibilità di 
 osservare mediante cannocchiali le attività di riproduzione degli esempla
 ri di Avifauna presenti nella Riserva Naturale di Canterno”\, di essere 
 a contatto diretto con la Natura e godere delle preziose meraviglie del Cr
 eato.\n\nUn’occasione questa\, per seguire le orme tracciate da Papa Fra
 ncesco nell’Enciclica “ Laudato sì ”.\nAppuntamento ore 9.30 presso
  il Campo Sportivo di Fiuggi località Capo i Prati (Fr)\n\nEvento gratuit
 o rivolto a ragazzi ed adulti\, percorso ad anello km. 1\,800 di difficolt
 à semplice\, si consiglia abbigliamento sportivo e scarpe da trekking. Ch
 i ne è in possesso porti con se binocolo o cannocchiale\nPranzo al Sacco\
 n\ninfo: 346 6713371 - 328 0849678
ATTACH;FMTTYPE=image/jpeg:https://lazioeventi.com/wp-content/uploads/2021/
 05/Garzaia-Fiuggi.jpg
CATEGORIES:Arte e Cultura nel Lazio
LOCATION:Fiuggi\, Comune di Fiuggi\, Fiuggi\, Frosinone\, Lazio\, Italia
GEO:41.8039;13.2218
X-APPLE-STRUCTURED-LOCATION;VALUE=URI;X-ADDRESS=Comune di Fiuggi\, Fiuggi\,
  Frosinone\, Lazio\, Italia;X-APPLE-RADIUS=100;X-TITLE=Fiuggi:geo:41.8039,
 13.2218
END:VEVENT
BEGIN:VTIMEZONE
TZID:Europe/Rome
X-LIC-LOCATION:Europe/Rome
BEGIN:DAYLIGHT
DTSTART:20210328T030000
TZOFFSETFROM:+0100
TZOFFSETTO:+0200
TZNAME:CEST
END:DAYLIGHT
END:VTIMEZONE
END:VCALENDAR