BEGIN:VCALENDAR
VERSION:2.0
PRODID:-//wp-events-plugin.com//7.2.3.1//EN
TZID:Europe/Rome
X-WR-TIMEZONE:Europe/Rome
BEGIN:VEVENT
UID:43142@lazioeventi.com
DTSTART;TZID=Europe/Rome:20251123T173000
DTEND;TZID=Europe/Rome:20251123T190000
DTSTAMP:20251119T144810Z
URL:https://lazioeventi.com/eventi/i-capolavori-di-brahms
SUMMARY:I capolavori di Brahms - Fondi - 23 Novembre 25 17:30
DESCRIPTION:Domenica 23 novembre\, alle ore 17:30\, ultimo appuntamento al 
 Palazzo Caetani di Fondi del ciclo d’autunno de “I Concerti dell’Acc
 ademia degli Sfaccendati”.\n\nAppuntamento nel segno della bellissima mu
 sica da camera di Johannes Brahms. Tre giovani eccellenze del concertismo 
 italiano – il violista Matteo Rocchi\, il pianista Simone Rugani e il me
 zzosoprano Veronica Aracri – proporranno al pubblico di Palazzo Caetani 
 le due Sonate in fa minore e in mi bemolle maggiore op.120 per viola e pia
 noforte che Brahms compose a Bad Ischl nell’estate del 1894 per clarinet
 to o viola e pianoforte\, frutto dell’estrema stagione creativa dell’a
 mburghese influenzata dall’incontro col clarinettista Richard von Mühlf
 eld\, insieme ai Due Canti (Zwei Gesänge) op.91 per contralto\, viola e p
 ianoforte – Gestitile Sehnsucht (Nostalgia placata) su testo di Friedric
 h Rückert e Geistliches Wiegenlied (Ninna-nanna spirituale) su un testo t
 ratto da Lope de Vega – nel primo dei quali il canto si snoda su una lin
 ea melodica piena di ornamenti e nel secondo\, una Ninna-nanna di straordi
 naria tenerezza sentimentale\, viene utilizzato un canto natalizio del Cin
 quecento espresso dalla viola.\n\nUn concerto di grande intensità poetica
  ed espressiva in cui risalterà l’eccellenza interpretativa dei giovani
  musicisti.\n\nI Concerti dell’Accademia degli Sfaccendati al Palazzo Ca
 etani di Fondi sono realizzati dalla COOP ART di Roma (socio AIAM e socio 
 CIDIM) con il contributo del Ministero della Cultura e della Regione Lazio
 \, con il patrocinio del Parco Naturale Regionale dei Monti Ausoni e del L
 ago di Fondi e del Comune di Fondi e in collaborazione con il Fondi Music 
 Festival.\n\nInfo e prenotazioni: 3331375561
ATTACH;FMTTYPE=image/jpeg:https://lazioeventi.com/wp-content/uploads/2025/
 11/concerto_23_novembre2025.jpg
CATEGORIES:Musica, Spettacoli e Danza nel Lazio
LOCATION:Fondi\, Comune di Fondi\, Fondi\, Latina\, Lazio\, Italia
GEO:41.3569;13.431
X-APPLE-STRUCTURED-LOCATION;VALUE=URI;X-ADDRESS=Comune di Fondi\, Fondi\, L
 atina\, Lazio\, Italia;X-APPLE-RADIUS=100;X-TITLE=Fondi:geo:41.3569,13.431
END:VEVENT
BEGIN:VTIMEZONE
TZID:Europe/Rome
X-LIC-LOCATION:Europe/Rome
BEGIN:STANDARD
DTSTART:20251026T020000
TZOFFSETFROM:+0200
TZOFFSETTO:+0100
TZNAME:CET
END:STANDARD
END:VTIMEZONE
END:VCALENDAR