BEGIN:VCALENDAR
VERSION:2.0
PRODID:-//wp-events-plugin.com//7.2.3.1//EN
TZID:Europe/Rome
X-WR-TIMEZONE:Europe/Rome
BEGIN:VEVENT
UID:40439@lazioeventi.com
DTSTART;TZID=Europe/Rome:20241214T200000
DTEND;TZID=Europe/Rome:20241214T220000
DTSTAMP:20241211T123301Z
URL:https://lazioeventi.com/eventi/i-concerti-dellaccademia-degli-sfaccend
 ati-2
SUMMARY:I Concerti dell’Accademia degli Sfaccendati - Ariccia - 14 Dicemb
 re 24 20:00
DESCRIPTION:Sabato 14 dicembre\, alle ore 20:00\, nella Sala Maestra di Pal
 azzo Chigi ad Ariccia ultimo appuntamento della Stagione 2024 de “I Conc
 erti dell’Accademia degli Sfaccendati”.\n\nPer l’occasione la Direzi
 one Artistica di Giovanna Manci e Giacomo Fasola ha pensato di congedarsi 
 dal pubblico degli “Sfaccendati” al ritmo della danza più famosa al m
 ondo – il valzer – ed ha invitato l’Ensemble Nuove Musiche\, formato
  da Filippo Del Noce – flauto\, Valeria Lupi  – clarinetto\, Antonio 
 Delfino – harmonium\, Francesco Ottonello – percussioni\, Leonardo Boe
 ro – violino\, Davide Moro – violino\, Amira Awajan – viola\, Lorenz
 o Guida – violoncello\, Diletta Laura Rigo – contrabbasso\, e diretto 
 da Massimiliano Caldi che con il soprano Linda Campanella eseguiranno alcu
 ni dei più famosi e celebrati valzer di Johann Strauss junior (1825 – 1
 899): Venezianer Walz\, Sangue viennese\, Rose del Sud\, Storielle del bos
 co viennese\, Valzer di primavera\, Kaiser Walz\, Sul bel Danubio blu\, ne
 lle trascrizioni realizzate per l’Ensemble Nuove Musiche dagli allievi d
 i composizione del Conservatorio “Giuseppe Verdi” di Torino.\n\n“I C
 oncerti dell’Accademia degli Sfaccendati” si congedano così dal propr
 io pubblico dando appuntamento  a tutti per la Stagione 2025.\n\n“I Con
 certi dell’Accademia degli Sfaccendati” sono organizzati dalla Coop Ar
 t di Roma\, per la Direzione Artistica di Giovanna Manci e Giacomo Fasola\
 , con il contributo ed il patrocinio del Ministero della Cultura\, della R
 egione Lazio e del Comune di Ariccia.\n\nInfo e prenotazioni : 3331375561
ATTACH;FMTTYPE=image/jpeg:https://lazioeventi.com/wp-content/uploads/2024/
 12/76a67853-3db1-42b8-a0cb-743b68240931.jpeg
CATEGORIES:Musica, Spettacoli e Danza nel Lazio
LOCATION:Ariccia\, Comune\, Ariccia\, Roma\, Lazio\, Italia
GEO:41.72;12.671
X-APPLE-STRUCTURED-LOCATION;VALUE=URI;X-ADDRESS=Comune\, Ariccia\, Roma\, L
 azio\, Italia;X-APPLE-RADIUS=100;X-TITLE=Ariccia:geo:41.72,12.671
END:VEVENT
BEGIN:VTIMEZONE
TZID:Europe/Rome
X-LIC-LOCATION:Europe/Rome
BEGIN:STANDARD
DTSTART:20241027T020000
TZOFFSETFROM:+0200
TZOFFSETTO:+0100
TZNAME:CET
END:STANDARD
END:VTIMEZONE
END:VCALENDAR