BEGIN:VCALENDAR
VERSION:2.0
PRODID:-//wp-events-plugin.com//7.2.3.1//EN
TZID:Europe/Rome
X-WR-TIMEZONE:Europe/Rome
BEGIN:VEVENT
UID:28268@lazioeventi.com
DTSTART;TZID=Europe/Rome:20210610T100000
DTEND;TZID=Europe/Rome:20210905T190000
DTSTAMP:20210608T142658Z
URL:https://lazioeventi.com/eventi/i-dinosauri-sono-tornati-la-mostra-worl
 d-of-dinosaurs-di-lanuvio
SUMMARY:I dinosauri sono tornati! La mostra World Of Dinosaurs di Lanuvio -
  Lanuvio - 10 Giugno 21 10:00
DESCRIPTION:La grande mostra a tema preistorico “World of Dinosaurs" fina
 lmente è tornata a Lanuvio (Rm) e ci rimarrà per tutta l'estate 2021!\n\
 nUna grande radura con Giganteschi Dinosauri nella campagna a un passo dai
  Castelli Romani ospita l'esposizione "temporanea" di dinosauri a grandezz
 a naturale.\nUn'occasione imperdibile\, ideale per avvicinare i più picco
 li al mondo dei dinosauri e trascorrere momenti spensierati con tutta la f
 amiglia.\n\nTroverete ricostruzioni realistiche di dinosauri e altri anima
 li preistorici nelle loro dimensioni originali e in ambientazione naturale
  all'aperto.\n\nTutte le riproduzioni esposte sono sorprendentemente reali
 stiche e curate nei dettagli.\nDal terribile T-Rex\, all'Allosaurus\, il T
 riceratops\, il Suchomimus\, il maestoso Diplodocus con i suoi 30 metri di
  lunghezza\, lo Stegosaurus...  fino ad arrivare ai famelici Deinonychus 
 e al piccolo Psittacosaurus\, è veramente ricca la selezione di dinosauri
  rappresentata che si potranno vedere così da vicino\, in tutta la loro g
 randezza.\n\nUNA MOSTRA NELLA MOSTRA\nOltre alle riproduzioni di dinosauro
  si potranno ammirare anche i successori dei dinosauri. Spettacolari ripro
 duzioni degli animali preistorici come il "bradipo"\, la "tigre con i dent
 i a sciabola" e tanti altri a noi meno conosciuti!\n\nUn vero e proprio 
 “museo a cielo aperto” allestito nelle aree all'aperto dell'Agriturisn
 o Casale della Mandria\, l'esposizione rappresenta un interessante approfo
 ndimento sul mondo di questi affascinanti giganti della preistoria\, per u
 n avvincente viaggio a ritroso nel tempo.\n\nGIORNI E ORARI APERTURA:\ndal
  Martedì al venerdì: orario 10:00-13:00/15:00-19:00.\nSABATO E DOMENICA 
 e FESTIVI: orario continuato 9:30-19:00\nLunedì CHIUSO\n(gli orari e gior
 ni di apertura possono subire variazioni nel corso della stagione)\n\nDOVE
  SIAMO:\nVia Mediana Bonifica 23 - 00075 Lanuvio (Rm) con ingresso da Agri
 turismo CASALE DELLA MANDRIA\n\nPRENOTAZIONI: prenotazioni@dinosaurilanuvi
 o.it\n\nINFO: 3331657725\nINFORMAZIONI GENERALI E TARIFFE : www.dino-park.
 it
ATTACH;FMTTYPE=image/jpeg:https://lazioeventi.com/wp-content/uploads/2021/
 06/dinosari_lanuvio.jpg
CATEGORIES:Varie
LOCATION:Lanuvio\, Comune\, Lanuvio\, Roma\, Lazio\, Italia
GEO:41.6758;12.6975
X-APPLE-STRUCTURED-LOCATION;VALUE=URI;X-ADDRESS=Comune\, Lanuvio\, Roma\, L
 azio\, Italia;X-APPLE-RADIUS=100;X-TITLE=Lanuvio:geo:41.6758,12.6975
END:VEVENT
BEGIN:VTIMEZONE
TZID:Europe/Rome
X-LIC-LOCATION:Europe/Rome
BEGIN:DAYLIGHT
DTSTART:20210328T030000
TZOFFSETFROM:+0100
TZOFFSETTO:+0200
TZNAME:CEST
END:DAYLIGHT
END:VTIMEZONE
END:VCALENDAR