BEGIN:VCALENDAR
VERSION:2.0
PRODID:-//wp-events-plugin.com//7.2.3.1//EN
TZID:Europe/Rome
X-WR-TIMEZONE:Europe/Rome
BEGIN:VEVENT
UID:27522@lazioeventi.com
DTSTART;TZID=Europe/Rome;VALUE=DATE:20200908
DTEND;TZID=Europe/Rome;VALUE=DATE:20200911
DTSTAMP:20200827T180324Z
URL:https://lazioeventi.com/eventi/i-giochi-del-sorriso-morolo
SUMMARY:I Giochi del Sorriso - Morolo - 8 Settembre 20 00:00
DESCRIPTION:I Giochi del Sorriso nascono per far fare movimento agli alunni
  delle scuole materne e primarie e nello stesso tempo farli divertire e so
 rridere. Nei nostri giochi non esiste un vincitore\, né un vinto\, ma sol
 amente delle regole da seguire per impara
ATTACH;FMTTYPE=image/jpeg:https://lazioeventi.com/wp-content/uploads/2020/
 08/sorriso-veroli.jpg
CATEGORIES:Sport, Tempo Libero e Divertimento nel Lazio
LOCATION:Morolo\, Comune\, Morolo\, Frosinone\, Lazio\, Italia
GEO:41.638;13.1974
X-APPLE-STRUCTURED-LOCATION;VALUE=URI;X-ADDRESS=Comune\, Morolo\, Frosinone
 \, Lazio\, Italia;X-APPLE-RADIUS=100;X-TITLE=Morolo:geo:41.638,13.1974
END:VEVENT
BEGIN:VTIMEZONE
TZID:Europe/Rome
X-LIC-LOCATION:Europe/Rome
BEGIN:DAYLIGHT
DTSTART:20200329T030000
TZOFFSETFROM:+0100
TZOFFSETTO:+0200
TZNAME:CEST
END:DAYLIGHT
END:VTIMEZONE
END:VCALENDAR