BEGIN:VCALENDAR
VERSION:2.0
PRODID:-//wp-events-plugin.com//7.2.3.1//EN
TZID:Europe/Rome
X-WR-TIMEZONE:Europe/Rome
BEGIN:VEVENT
UID:30443@lazioeventi.com
DTSTART;TZID=Europe/Rome:20220413T180000
DTEND;TZID=Europe/Rome:20220413T193000
DTSTAMP:20220411T095644Z
URL:https://lazioeventi.com/eventi/i-giorni-del-coraggio
SUMMARY:I giorni del coraggio - Fiumicino - 13 Aprile 22 18:00
DESCRIPTION:Mercoledì 13 aprile alle ore 18 alla Casa della Partecipazione
  (via del Buttero – Maccarese) ci sarà la presentazione del libro “I 
 giorni del coraggio. La forza delle donne oltre la pandemia” di Eleonora
  Mattia.\n\nAlla presentazione ci saranno oltre all’autrice Eleonora Mat
 tia\, che è anche Presidente IX Commissione Consiglio regionale del Lazio
 \, l’assessora alle Pari Opportunità del Comune di Fiumicino Anna Maria
  Anselmi\, la delegata alla Legalità del Comune di Fiumicino Arcangela Ga
 lluzzo e la Garante dell’Infanzia e dell’adolescenza del Comune di Fiu
 micino Antonella Maucioni.\n\nIntervengono: Maria Grazia Cappelli\, Paola 
 Meloni\, Federica Alderighi.
ATTACH;FMTTYPE=image/jpeg:https://lazioeventi.com/wp-content/uploads/2022/
 04/i-giorni-del-coraggio-libro.jpg
CATEGORIES:Arte e Cultura nel Lazio
LOCATION:Fiumicino\, Comune\, Fiumicino\, Roma\, Lazio\, Italia
GEO:41.8026;12.2551
X-APPLE-STRUCTURED-LOCATION;VALUE=URI;X-ADDRESS=Comune\, Fiumicino\, Roma\,
  Lazio\, Italia;X-APPLE-RADIUS=100;X-TITLE=Fiumicino:geo:41.8026,12.2551
END:VEVENT
BEGIN:VTIMEZONE
TZID:Europe/Rome
X-LIC-LOCATION:Europe/Rome
BEGIN:DAYLIGHT
DTSTART:20220327T030000
TZOFFSETFROM:+0100
TZOFFSETTO:+0200
TZNAME:CEST
END:DAYLIGHT
END:VTIMEZONE
END:VCALENDAR