BEGIN:VCALENDAR
VERSION:2.0
PRODID:-//wp-events-plugin.com//7.2.3.1//EN
TZID:Europe/Rome
X-WR-TIMEZONE:Europe/Rome
BEGIN:VEVENT
UID:36933@lazioeventi.com
DTSTART;TZID=Europe/Rome:20230908T200000
DTEND;TZID=Europe/Rome:20230909T230000
DTSTAMP:20230906T074314Z
URL:https://lazioeventi.com/eventi/i-grandi-del-cinema-al-castello-di-sant
 a-severa
SUMMARY:I grandi del cinema al Castello di Santa Severa - Santa Marinella -
  8 Settembre 23 20:00
DESCRIPTION:Continuano gli appuntamento a Santa Marinella.\n\nVenerdì 8 al
 le ore 20:00 l’appuntamento è con i grandi del cinema al Castello di Sa
 nta Severa. \nA cento anni dalla sua nascita\, verrà proiettato il docufi
 lm “ Franco Zeffirelli. La mia vita in una scatola di pellicola”\, di 
 Donatella Baglivo. La regista\, santamarinella d’adozione\, ripercorrer
 à la vita e la carriera di Zeffirelli con un esclusivo dietro le quinte d
 el film\n“Un te’ con Mussolini” del 1999\,  pellicola parzialmente a
 utobiografica  del  grande maestro. Ospite d’eccezione della serata sar
 à Gianni Quaranta\, premio Oscar nel 1987 per la scenografia del film “
 Camera con vista” e scenografo di molte pellicole del regista fiorentino
 .\n\nL’evento è organizzato dal Comune di Santa Marinella ed è una del
 le tappe della 12ma edizione International Tour Film Festival\, patrocinat
 o da Regione Lazio e in questi giorni presente al Festival del Cinema di V
 enezia .\n\n“Siamo molto orgogliosi di ospitare un evento così importan
 te e soprattutto ricordare il grande regista a cento anni dalla sua nascit
 a con il film di Donatella Baglivo- ha  dichiarato l’assessore Gino Vina
 ccia.\n\nIl programma di settembre prosegue sabato 9 alle ore 21:00 sempre
  al Castello di Santa Severa con la presentazione del romanzo di Edoardo S
 avarese\, intitolato “E’ tardi!”\, un chiaro  riferimento all’escl
 amazione che segna l’inizio e la fine della narrazione di sette tempi di
  attesa di altrettante eroine dell’opera lirica. Arte e vita si intrecci
 ano per raccontare tratti di vita vera attraverso i ritratti di Traviata\,
  Carmen e le altre protagoniste indimenticabili dell’opera.\n\nL’incon
 tro con l’autore\, magistrato e  studioso di diritto\, sarà curato dall
 a biblioteca A.Capotosti e prevede una proiezione audiovisiva di brani ope
 ristici.\n\n
ATTACH;FMTTYPE=image/jpeg:https://lazioeventi.com/wp-content/uploads/2023/
 09/E-tardi.jpg
CATEGORIES:Musica, Spettacoli e Danza nel Lazio,Arte e Cultura nel Lazio
LOCATION:Santa Marinella\, Comune di Santa Marinella\, Santa Marinella\, Ro
 ma\, Lazio\, Italia
GEO:42.0344;11.8545
X-APPLE-STRUCTURED-LOCATION;VALUE=URI;X-ADDRESS=Comune di Santa Marinella\,
  Santa Marinella\, Roma\, Lazio\, Italia;X-APPLE-RADIUS=100;X-TITLE=Santa 
 Marinella:geo:42.0344,11.8545
END:VEVENT
BEGIN:VTIMEZONE
TZID:Europe/Rome
X-LIC-LOCATION:Europe/Rome
BEGIN:DAYLIGHT
DTSTART:20230326T030000
TZOFFSETFROM:+0100
TZOFFSETTO:+0200
TZNAME:CEST
END:DAYLIGHT
END:VTIMEZONE
END:VCALENDAR