BEGIN:VCALENDAR
VERSION:2.0
PRODID:-//wp-events-plugin.com//7.2.3.1//EN
TZID:Europe/Rome
X-WR-TIMEZONE:Europe/Rome
BEGIN:VEVENT
UID:40872@lazioeventi.com
DTSTART;TZID=Europe/Rome:20250309T093000
DTEND;TZID=Europe/Rome:20250309T160000
DTSTAMP:20250303T143254Z
URL:https://lazioeventi.com/eventi/i-laghetti-di-percile
SUMMARY:I laghetti di Percile - Percile - 9 Marzo 25 09:30
DESCRIPTION:Domenica trek con una semplice escursione che dal borgo di Perc
 ile ci condurrà ai suoi laghetti (lagustelli in gergo paesano) che sono 
 un unicum naturalistico a pochi minuti da Roma. Di origine carsica occupan
 o il fondo di due doline e sorgono all'interno del Parco dei Monti Lucreti
 li. Si arriva al primo dei due laghi\, il Lago Marraone\, costeggiando un
 a profonda dolina che ospita lo specchio d’acqua\, poco visibile dalla s
 trada. Mentre il lago piu’ grande (Fraturno) sarà la nostra meta e dove
  faremo la pausa pranzo. Circondato da un bosco di conifere ricorda un an
 golo di Alpi nel cuore dei Monti Lucretili. Il percorso di avvicinamento\
 , un tratto del Cammino naturale dei parchi\, è gradevole e panoramico s
 u gran parte della valle dell’Aniene.\nUna domenica dal sapore primaveri
 le . Al rientro prima di partire e del 3° tempo breve sosta alla storica
  fonte degli Aliucci\n...da essa sgorga un'acqua leggerissima\, oligominer
 ale\, usata fin dall'epoca romana per la cura dei calcoli renali.\nkm 12 d
 islivello 300 metri\n\nAppuntamento: h 9.30   a Percile. Il punto esatt
 o verrà comunicato in fase di prenotazione.\nAltri appuntamenti: in funzi
 one della disponibilità delle auto\, presso fermate Metro\, da concordare
  con le guide.\nCosa portare: scarponcini da trekking\; utili i bastoncini
 \; vestirsi a strati\; acqua a sufficienza\; pranzo al sacco ... i dolcet
 ti e il caffè li offriamo noi \n\nQUOTA SOCIALE:\nEscursione 15 € + Te
 ssera Nomos Trek in corso di validità.\n Per i non tesserati inviare com
 unicazione via tel/sms etc. con i propri dati (nome\, cognome\, luogo e da
 ta di nascita e cf) entro le 18 del giorno precedente l'escursione.\nAd og
 ni nuovo socio verrà rilasciata la tessera fedeltà Nomos Trek. Dopo 9 es
 cursioni che farete con noi la 10° sarà gratuita.\nIl solo "Parteciperò
 " messo all'evento non sarà preso in considerazione se non si è poi cont
 attata la guida.\n\nINFORMAZIONI e PRENOTAZIONI: (preferibilmente whatsApp
 )\nMarco Marini 3478247257 \nGuida ambientale escursionistica\nPer riceve
 re aggiornamenti sull'evento e vedere tutte le escursioni:\n1) Mettere "pa
 rteciperò"\n2) Mettere “mi piace” alla pagina Nomos Trek - Escursioni
  e Trekking e cliccare sul tasto “segui” - https://www.facebook.com/N
 omosTrek\n3) iscriversi al gruppo pubblico Nomos Trek- Associazione Escurs
 ionistica -https://www.facebook.com/groups/341852695915250\n4) Chat Telegr
 am https://t.me/+5JYvtRdqIH9jZDJk\n5) https://www.tiktok.com/@nomostrek\
 n6) https://www.instagram.com/nomostrekescursioni/?hl=it\n7) https://twi
 tter.com/nomos_trek\n Visita il sito: www.nomostrek.com\n9) https://wha
 tsapp.com/channel/0029VaD7W1hGZNCxYwLH5C1Y\n10) https://www.threads.net/@
 marco71marini\n11)https://www.messenger.com/channel/NomosTrek\nL’iniziat
 iva è riservata ai soci in regola con l’iscrizione relativa all’anno 
 2025 ed in possesso della relativa tessera. Le Guide si riservano il dirit
 to insindacabile di modificare il programma stabilito in caso di condizion
 i meteorologiche avverse tali da rendere pericoloso l’itinerario\, in ca
 so di impraticabilità di un sentiero\, in caso di impossibilità di un pa
 rtecipante a continuare l’escursione per problemi fisici e/o psicologici
 .\nSi prega inoltre di avvertire gli accompagnatori della presenza di even
 tuali patologie\, o di problematiche che potrebbero manifestarsi nel corso
  dell'escursione\, grazie per la collaborazione
ATTACH;FMTTYPE=image/jpeg:https://lazioeventi.com/wp-content/uploads/2025/
 03/481248533_1192399936222725_934431008561994627_n.jpg
CATEGORIES:Sport, Tempo Libero e Divertimento nel Lazio
LOCATION:Percile\, Comune\, Percile\, Roma\, Lazio\, Italia
GEO:42.0948;12.9086
X-APPLE-STRUCTURED-LOCATION;VALUE=URI;X-ADDRESS=Comune\, Percile\, Roma\, L
 azio\, Italia;X-APPLE-RADIUS=100;X-TITLE=Percile:geo:42.0948,12.9086
END:VEVENT
BEGIN:VTIMEZONE
TZID:Europe/Rome
X-LIC-LOCATION:Europe/Rome
BEGIN:STANDARD
DTSTART:20241027T020000
TZOFFSETFROM:+0200
TZOFFSETTO:+0100
TZNAME:CET
END:STANDARD
END:VTIMEZONE
END:VCALENDAR