BEGIN:VCALENDAR
VERSION:2.0
PRODID:-//wp-events-plugin.com//7.2.3.1//EN
TZID:Europe/Rome
X-WR-TIMEZONE:Europe/Rome
BEGIN:VEVENT
UID:31143@lazioeventi.com
DTSTART;TZID=Europe/Rome:20220611T151500
DTEND;TZID=Europe/Rome:20220612T180000
DTSTAMP:20220529T070302Z
URL:https://lazioeventi.com/eventi/i-laghetti-sotterranei-di-roma-2
SUMMARY:I Laghetti sotterranei di Roma - Roma - 11 Giugno 22 15:15
DESCRIPTION:Roma Sotterranea con archeologo\n\nI LAGHETTI SOTTERRANEI DEL T
 EMPIO DI CLAUDIO E IL CIRCO MASSIMO\n\nPresso il meraviglioso Clivio di Sc
 auro sorge la famosa basilica dei SS. Giovanni e Paolo e nei suoi pressi\,
  nel sottosuolo\, dove un tempo sorgeva il mastodontico Tempio dell’Impe
 ratore Claudio\, oggi possiamo scendere per scoprire una delle cavità pi
 ù importanti tra le tantissime presenti nel sottosuolo di Roma.\n\nScende
 ndo proprio dalle sostruzioni del tempio\, accederemo ad un sistema di gal
 lerie sotterranee\, in cui i segni evidenti delle picconature rivelano l
 ’utilizzo come cave per l’estrazione di tufo.\n\nLe gallerie permetton
 o di osservare le fondazioni del convento superiore e di camminare sui con
 i di riempimento creati da sversamenti di materiale in epoche recenti\, ma
  soprattutto danno modo di ammirare due piccoli laghetti sotterranei carat
 terizzati da un’acqua azzurra e purissima la cui l’origine è ancora s
 conosciuta.\n\nI due laghetti sono sicuramente il momento più suggestivo 
 di un percorso inaspettato e affascinante a seguito del quale risaliremo s
 ul Clivio di Scauro scoprendo la storia di questa strada fino a raggiunger
 e il Circo Massimo di cui la nostra guida illustrerà storia e funzione e 
 segreti.\n\nPer partecipare alla visita è necessario NON avere difficolt
 à di deambulazione: il percorso è accidentato\, non illuminato e vi sono
  frequenti cambi di quota.\n\nAppuntamento 15 minuti prima dell’inizio:\
 ndavanti la Torre della Moletta\, Viale Aventino\n\nDurata:\n2h e 30\n\nPe
 r partecipare è necessario presentarsi muniti di:\n– scarpe da trekking
 \n– abbigliamento sportivo con felpa o pile\n– torcia elettrica (NON q
 uella del cellulare)\n\nQuota di partecipazione:\n22€ ridotto convenzion
 ati\, WeKard\n24€ intero\n20€ under 18\n\nN.B. Attenzione! Il percorso
  non è adatto ai minori di 12 anni.\n\nModalità di pagamento:\nonline o 
 tramite bonifico bancario da effettuarsi all’atto della prenotazione\n\n
 Div.abili:\nPer partecipare alla visita è necessario NON avere difficolt
 à di deambulazione: il percorso è accidentato\, non illuminato e vi sono
  frequenti cambi di quota.\n\nPRENOTAZIONE OBBLIGATORIA:\ncliccando su pre
 nota subito o telefonando al numero\n334/3006636 e 0651960876
ATTACH;FMTTYPE=image/jpeg:https://lazioeventi.com/wp-content/uploads/2022/
 05/laghetti-roma.jpg
CATEGORIES:Arte e Cultura nel Lazio
LOCATION:Roma\, Via Leopardi\, Roma\, Roma\, Lazio\, Italia
GEO:41.8942;12.5017
X-APPLE-STRUCTURED-LOCATION;VALUE=URI;X-ADDRESS=Via Leopardi\, Roma\, Roma\
 , Lazio\, Italia;X-APPLE-RADIUS=100;X-TITLE=Roma:geo:41.8942,12.5017
END:VEVENT
BEGIN:VTIMEZONE
TZID:Europe/Rome
X-LIC-LOCATION:Europe/Rome
BEGIN:DAYLIGHT
DTSTART:20220327T030000
TZOFFSETFROM:+0100
TZOFFSETTO:+0200
TZNAME:CEST
END:DAYLIGHT
END:VTIMEZONE
END:VCALENDAR