BEGIN:VCALENDAR
VERSION:2.0
PRODID:-//wp-events-plugin.com//7.2.3.1//EN
TZID:Europe/Rome
X-WR-TIMEZONE:Europe/Rome
BEGIN:VEVENT
UID:33734@lazioeventi.com
DTSTART;TZID=Europe/Rome:20230212T111500
DTEND;TZID=Europe/Rome:20230212T131500
DTSTAMP:20230110T092534Z
URL:https://lazioeventi.com/eventi/i-lieder-di-richard-strauss-e-gustav-ma
 hler
SUMMARY:I Lieder di Richard Strauss e Gustav Mahler - Velletri - 12 Febbrai
 o 23 11:15
DESCRIPTION:2023.02.12 domenica ore 11:15\nI Lieder di Richard Strauss e Gu
 stav Mahler\nGIANANDREA NAVACCHIA baritono\nMARCO SANTIA’ pianoforte\nRi
 chard Strauss (1864-1949)\nDie Nacht\nDie Zeitlose\nAch Lieb\, ich muss nu
 n scheiden!\nTräumerei\nTraum durch die Dämmerung\nLeises Lied\nMorgen\n
 Heidebild\nAllerseelen\nStiller Gang\nZueignung\nGustav Mahler (1860-1911)
  – Lieder und Gesänge aus der Jugendzeit\n- Serenade\n- Phantasie\nR. S
 trauss – Auf stillem Waldespfad\nG. Mahler - Rückert-Lieder\n- Blicke m
 ir nicht in die Lieder\n- Ich atmet’ einen linden Duft\n- Liebst du um S
 choenheit?\n- Um mitternacht\n- Ich bin der Welt abhanden gekommen\n\n2023
 .03.24 venerdì ore 18:00 (o altra data da definire)\nIVAN DONCHEV pianofo
 rte\n5° Concerto dell’integrale delle Sonate per pianoforte di L. van B
 EETHOVEN\nL. van Beethoven (1770-1827)\nPiano Sonata No. 13 in E flat\, Op
 .27 No.1\n- Andante – Allegro – Andante\n- Allegro molto e vivace\n- A
 dagio con espressione\n- Allegro vivace\nPiano Sonata No. 14 in C sharp mi
 nor\, Op.27 No.2 -”Moonlight”\n- Adagio sostenuto\n- Allegretto\n- Pre
 sto agitato\nPiano Sonata No. 15 in D\, Op.28 -”Pastorale”\n- Allegro\
 n- Andante\n- Scherzo: Allegro vivace\n- Rondo: Allegro ma non troppo\n\n2
 023.03.26 domenica ore 18:00\nROBERTO MANUEL ZANGARI tenore\nSIMONE PIERIN
 I piano Pleyel del 1879\nW. A. Mozart (1756-1791)\nRidente la calma\nDans 
 un bois solitaire (“In un bosco solitario”)\nDas Veilchen (“La viola
 ”)\nFantasia in re min. KV397 (pianoforte solo)\nSei du mein Trost (“S
 ei tu la mia consolazione”)\nIch wurd auf meinem Pfad (“Vorrei sulla m
 ia strada”)\nDer Zauberer (“Il mago”)\nAbendenmpfindung an Laura (
 “Sensazione serale per Laura”)\nF. J. Haydn (1732-1809)\ndalla Sonata 
 in Mib Hob.XVI:52 (pianoforte solo)\nAllegro moderato\nW. A. Mozart\nLied 
 beim Auszug in das Feld (Canzone di quando si scende in campo)\nF. J. Hayd
 n\nO toneful voice\nShe never told her love\nPiercing Eyes\n\nIngresso ad 
 Offerta Libera\n\nPrenotazioni: tel. 371 1508883 – colleionci@gmail.com
ATTACH;FMTTYPE=image/jpeg:https://lazioeventi.com/wp-content/uploads/2023/
 01/auditorium.jpg
CATEGORIES:Musica, Spettacoli e Danza nel Lazio
LOCATION:Velletri\, Comune\, Velletri\, Roma\, Lazio\, Italia
GEO:41.6865;12.7776
X-APPLE-STRUCTURED-LOCATION;VALUE=URI;X-ADDRESS=Comune\, Velletri\, Roma\, 
 Lazio\, Italia;X-APPLE-RADIUS=100;X-TITLE=Velletri:geo:41.6865,12.7776
END:VEVENT
BEGIN:VTIMEZONE
TZID:Europe/Rome
X-LIC-LOCATION:Europe/Rome
BEGIN:STANDARD
DTSTART:20221030T020000
TZOFFSETFROM:+0200
TZOFFSETTO:+0100
TZNAME:CET
END:STANDARD
END:VTIMEZONE
END:VCALENDAR