BEGIN:VCALENDAR
VERSION:2.0
PRODID:-//wp-events-plugin.com//7.2.3.1//EN
TZID:Europe/Rome
X-WR-TIMEZONE:Europe/Rome
BEGIN:VEVENT
UID:28118@lazioeventi.com
DTSTART;TZID=Europe/Rome:20210213T153000
DTEND;TZID=Europe/Rome:20210213T173000
DTSTAMP:20210126T165224Z
URL:https://lazioeventi.com/eventi/i-rioni-di-roma-ix-rione-pigna-da-s-ign
 azio-alla-chiesa-gesu-2
SUMMARY:I Rioni di Roma: IX Rione Pigna da S. Ignazio alla Chiesa Gesu - Ro
 ma - 13 Febbraio 21 15:30
DESCRIPTION:Passeggiare nel Campo Marzio vuol dire rivivere la storia della
  città antica a cui si sovrappone quella sacra. Non tutti sanno che in qu
 esta zona di Roma sono conservati dei gioielli architettonici di inestimab
 ile valore racchiusi in alcune chiese t
ATTACH;FMTTYPE=image/jpeg:https://lazioeventi.com/wp-content/uploads/2021/
 01/volta-chiesa-sant-ignazio-roma.jpg
CATEGORIES:Arte e Cultura nel Lazio
LOCATION:Roma\, Via Leopardi\, Roma\, Roma\, Lazio\, Italia
GEO:41.8942;12.5017
X-APPLE-STRUCTURED-LOCATION;VALUE=URI;X-ADDRESS=Via Leopardi\, Roma\, Roma\
 , Lazio\, Italia;X-APPLE-RADIUS=100;X-TITLE=Roma:geo:41.8942,12.5017
END:VEVENT
BEGIN:VTIMEZONE
TZID:Europe/Rome
X-LIC-LOCATION:Europe/Rome
BEGIN:STANDARD
DTSTART:20201025T020000
TZOFFSETFROM:+0200
TZOFFSETTO:+0100
TZNAME:CET
END:STANDARD
END:VTIMEZONE
END:VCALENDAR