BEGIN:VCALENDAR
VERSION:2.0
PRODID:-//wp-events-plugin.com//7.2.3.1//EN
TZID:Europe/Rome
X-WR-TIMEZONE:Europe/Rome
BEGIN:VEVENT
UID:35394@lazioeventi.com
DTSTART;TZID=Europe/Rome:20230521T161500
DTEND;TZID=Europe/Rome:20230521T180000
DTSTAMP:20230511T054237Z
URL:https://lazioeventi.com/eventi/i-segreti-del-rione-ponte-visita-guidat
 a
SUMMARY:I segreti del Rione Ponte - Visita guidata - Roma - 21 Maggio 23 16
 :15
DESCRIPTION:Il quinto rione cittadino con una vasta area rinascimentale chi
 amato “Rione Ponte”\, prese il suo nome da Ponte Sant’ Angelo\, l’
 unico che anticamente collegava il Vaticano con il resto della città e ch
 e costituiva una sorta di passaggio obbligato per coloro i quali erano dir
 etti verso la basilica di San Pietro. \nL’area\, che si sviluppò intorn
 o al lungo rettilineo di via dei Coronari\, la medievale Via Recta\, fu du
 nque da sempre teatro di passaggio dei pellegrini\, degli stranieri in vis
 ita alla città e delle vicende delle famiglie di banchieri e mercanti\, s
 pesso fiorentini\, che intrattenevano intensi rapporti d’affari con la c
 orte pontificia.\n\nLa nostra ricca passeggiata inizierà da piazza S. Apo
 llinare e lungo il percorso incontreremo molteplici bellezze architettonic
 he come Palazzo Altemps \, la Chiesa di S. Apollinare e Palazzo S. Apollin
 are \, Tor Sanguigna\, Piazza Fiammetta e Casa di Fiammetta. Continueremo 
 il nostro meraviglioso percorso verso Vicolo di S. Trifone \, S. Maria del
 l’Anima\, S. Maria della Pace e il Chiostro del Bramante. \nProprio da u
 n finestrone di quest’ultimo\, potremo ammirare i famosi dipinti raffael
 leschi della Cappella Chigi in Santa Maria della Pace. Inoltre passeremo p
 er via dei Coronari\, avvicinandoci a Palazzo Milesi\, Piazza di S. Simeon
 e con Palazzo Lancellotti e il Palazzo Antico Monte di Pietà. Inoltre avr
 emo modo di osservare da vicino altre meraviglie come piazza S. Salvatore 
 in Lauro\, Palazzo di Montegiordano \, piazza di Ponte e Arco dei Banchi. 
 \nL’ultima nostra tappa sarà il Palazzo del Banco di Santo Spirito.\n\n
 Per prenotarvi cliccate sul seguente link: https://artistinaty.it/event/i-
 segreti-del-rione-ponte/
ATTACH;FMTTYPE=image/jpeg:https://lazioeventi.com/wp-content/uploads/2023/
 05/locandina-rione-ponte.jpg
CATEGORIES:Arte e Cultura nel Lazio
LOCATION:Roma\, Via Leopardi\, Roma\, Roma\, Lazio\, Italia
GEO:41.8942;12.5017
X-APPLE-STRUCTURED-LOCATION;VALUE=URI;X-ADDRESS=Via Leopardi\, Roma\, Roma\
 , Lazio\, Italia;X-APPLE-RADIUS=100;X-TITLE=Roma:geo:41.8942,12.5017
END:VEVENT
BEGIN:VTIMEZONE
TZID:Europe/Rome
X-LIC-LOCATION:Europe/Rome
BEGIN:DAYLIGHT
DTSTART:20230326T030000
TZOFFSETFROM:+0100
TZOFFSETTO:+0200
TZNAME:CEST
END:DAYLIGHT
END:VTIMEZONE
END:VCALENDAR