BEGIN:VCALENDAR
VERSION:2.0
PRODID:-//wp-events-plugin.com//7.2.3.1//EN
TZID:Europe/Rome
X-WR-TIMEZONE:Europe/Rome
BEGIN:VEVENT
UID:32499@lazioeventi.com
DTSTART;TZID=Europe/Rome:20221007T180000
DTEND;TZID=Europe/Rome:20221021T190000
DTSTAMP:20220927T150952Z
URL:https://lazioeventi.com/eventi/i-sogni-li-spendo-per-strada
SUMMARY:I sogni li spendo per strada - Roma - 7 Ottobre 22 18:00
DESCRIPTION:Venerdì 7 ottobre dalle ore 19.00 – presso la nostra sede in
  Via Costanzo Cloro 58\, Roma – presenteremo “I sogni li spendo per st
 rada”: un libro e una mostra fotografica di Liliana Ranalletta.\nSaranno
  presenti l’autrice e il fotografo e curatore del libro\, Dario Coletti.
 \n\nIl Trullo è una borgata posta all’estrema periferia di Roma. È\, c
 on i suoi trentamila abitanti\, tra le suddivisioni urbanistiche più popo
 lose dell’area metropolitana di Roma. Un luogo di contraddizioni dove\, 
 nel tempo\, ad un’incuria istituzionale\, gli abitanti sono stati chiama
 ti a una reazione identitaria e orgogliosa. Manifestazioni condotte da gru
 ppi di azione artistica come i poeti ed i pittori anonimi del Trullo.\n\nO
 gni loro atto è ispirato alla determinazione nella riconquista della dign
 ità. Mario D’Amico è un simbolo di questo sentimento: un proletario no
 bile\, un animatore\, una persona riconosciuta all’interno del tessuto s
 ociale della borgata\, un poeta irregolare che nell’atto poetico e nel s
 ogno individua la sua ragione di vita. Da alcuni anni\, da corpo ai suoi d
 esideri dipingendo i muri del quartiere dove vive\, è un’azione quotidi
 ana svolta come compito inderogabile. L’obiettivo di questo agire è que
 llo di capovolgere l’immaginario stereotipato della periferia descritta 
 come un luogo di degrado trasformandola\, attraverso i colori e l’arte d
 ell’incontro\, in un luogo di bellezza\, di solidarietà\, di convivenza
 . E così le pitture invadono vie\, scuole\, case\, conferendo un’anima 
 a quei muri cancellandone le brutture e lasciando spazio alla poesia. È u
 n oceano di colori che esalta i valori della socialità. È energia positi
 va. Come in tutte le belle storie Mario inizia la sua impresa da solo\, se
 nza economia\, ma\, impara da subito che quando si inizia un viaggio nella
  coscienza non si è mai da soli e in poco tempo attorno a questa solitari
 a presenza altre tesserine si uniscono a comporre un umano mosaico colorat
 o e così si salda il sodalizio tra artisti indipendenti e spontanei fino 
 alla creazione del gruppo dei Pittori Anonimi del Trullo.\n\nOggi questa r
 ealtà rappresenta il potere creativo della borgata\, chiunque passeggi ac
 canto ai muri del Trullo non può non esserne coinvolto.\n\nLiliana Ranall
 etta è laureata in Lettere Moderne\, ha studiato fotografia a Roma con pr
 ofessionisti di fama internazionale come Augusto Pieroni\, Dario de Domini
 cis\, Claudio Palmisano e Dario Coletti. Street photographer per vocazione
  ha esplorato\, prima di affrontare questa specifica disciplina\, diversi 
 tipi di fotografia passando dalla macrofotografia alla fotografia sociale 
 producendo\, in questi campi\, lavori che hanno contribuito ad accrescere 
 le sue capacità di osservazione oltre che essere oggetto di attenzione di
  giurie di premi nazionali e internazionali.\n\nAl centro della sua ricerc
 a la “vita di strada” che negli anni ha generato un corpo di immagini 
 ed esperienze incentrate sul rapporto tra gli spazi della metropoli e le p
 ersone che vi abitano. Architettura\, studio del territorio\, ma soprattut
 to l’uomo sono i temi che caratterizzano i suoi scatti. Negli ultimi ann
 i oltre ad aggiudicarsi diversi premi in concorsi internazionali ha dato a
 lla luce due libri: “The fabolous destiny of Dainaly” curato dalla pho
 toeditor Irene Alison e “I sogni li spendo per strada” curato dal foto
 grafo Dario Coletti.  Per maggiori informazioni: www.lilianaranalletta.it\
 n\nDario Coletti è fotografo professionista e dalla fine degli anni ottan
 ta collabora con testate giornalistiche\, istituzioni e organizzazioni uma
 nitarie italiane e internazionali. Da sempre attento alle tematiche del so
 ciale\, negli ultimi anni è approdato a una fotografia di più ampio resp
 iro\, approfondendo il rapporto tra fotografia e antropologia visiva e spe
 rimentando altri linguaggi visivi come il film documentario. Alla professi
 one affianca l’attività didattica ed è oggi coordinatore del Dipartime
 nto di Fotogiornalismo dell’ISFCI a Roma. Attualmente collabora con l’
 associazione Malik di Cagliari come responsabile del settore immagine all
 ’interno dell’iniziativa I libri aiutano a leggere il mondo (Cagliari 
 2013-2017)\, con la rivista Il Calendario del Popolo (Roma 2013-2016) dove
  segue la rubrica di commento fotografico: “mms” e dove è membro del 
 comitato scientifico e con la rivista online e cartacea Sentire. Le sue fo
 tografie sono conservate presso biblioteche e musei italiani.\n\n\nLa part
 ecipazione è gratuita. La mostra sarà esposta fino al 21 ottobre e visit
 abile dal lunedì al venerdì dalle 18 alle 19 (o su appuntamento).\n
ATTACH;FMTTYPE=image/jpeg:https://lazioeventi.com/wp-content/uploads/2022/
 09/locandina-Ranalletta.jpg
CATEGORIES:Arte e Cultura nel Lazio
LOCATION:Roma\, Via Leopardi\, Roma\, Roma\, Lazio\, Italia
GEO:41.8942;12.5017
X-APPLE-STRUCTURED-LOCATION;VALUE=URI;X-ADDRESS=Via Leopardi\, Roma\, Roma\
 , Lazio\, Italia;X-APPLE-RADIUS=100;X-TITLE=Roma:geo:41.8942,12.5017
END:VEVENT
BEGIN:VTIMEZONE
TZID:Europe/Rome
X-LIC-LOCATION:Europe/Rome
BEGIN:DAYLIGHT
DTSTART:20220327T030000
TZOFFSETFROM:+0100
TZOFFSETTO:+0200
TZNAME:CEST
END:DAYLIGHT
END:VTIMEZONE
END:VCALENDAR