BEGIN:VCALENDAR
VERSION:2.0
PRODID:-//wp-events-plugin.com//7.2.3.1//EN
TZID:Europe/Rome
X-WR-TIMEZONE:Europe/Rome
BEGIN:VEVENT
UID:43130@lazioeventi.com
DTSTART;TZID=Europe/Rome:20251123T100000
DTEND;TZID=Europe/Rome:20251123T130000
DTSTAMP:20251118T131502Z
URL:https://lazioeventi.com/eventi/i-tesori-nascosti-di-ardea
SUMMARY:I tesori nascosti di Ardea - Ardea - 23 Novembre 25 10:00
DESCRIPTION:Una mattinata tra cultura e spettacolo: visite guidate gratuite
  ai tesori archeologici della città e il concerto "Archeojazz" nell'area 
 del Casarinaccio.\n I tesori nascosti di Ardea si svelano al pubblico in 
 un’occasione unica che unisce la scoperta del patrimonio storico alla su
 ggestione della musica dal vivo. Domenica 23 novembre 2025 è in programma
  l’apertura straordinaria dei siti archeologici della città rutula\, un
  evento promosso dalla Soprintendenza Archeologia Belle Arti e Paesaggio p
 er l'area metropolitana di Roma e per la provincia di Rieti\, in collabora
 zione con il Comune di Ardea\, la Pro Loco Ardea APS e l'Associazione Fila
 rmonica Città di Ardea.\nL'iniziativa offre a cittadini e turisti l'oppor
 tunità di immergersi nella storia millenaria del territorio attraverso un
  percorso di visita che toccherà tre luoghi simbolo\, solitamente non sem
 pre accessibili al grande pubblico.\nIL PROGRAMMA La giornata inizierà al
 le ore 10:00 con una visita guidata gratuita che condurrà i partecipanti 
 alla scoperta di tre siti di eccezionale rilevanza storica:\n\n\n 	L'Area 
 del Casarinaccio\;\n 	L'Oratorio Cristiano Ipogeo\, un gioiello di archite
 ttura sotterranea\;\n 	Il Colle della Noce\, sito di insediamenti antichi.
 \n\nA seguire\, alle ore 12:00\, la cultura lascerà spazio alla musica co
 n l'evento "Archeojazz". Nell'affascinante cornice dell'area del Casarinac
 cio\, l'Associazione Filarmonica Città di Ardea si esibirà in un concert
 o en plein air\, creando un dialogo sonoro tra le note jazz e le rovine an
 tiche\, per un’esperienza multisensoriale coinvolgente.\nINFO E PARTECIP
 AZIONE L'appuntamento per la partenza è fissato in Via Francesco Crispi 1
 \, Ardea. L'evento rappresenta un importante momento di valorizzazione ter
 ritoriale\, mirato a far conoscere le radici storiche della città attrave
 rso una fruizione dinamica e partecipata dei luoghi della cultura.\nRIEPIL
 OGO DETTAGLI\n\n\n 	Data: Domenica 23 novembre 2025\n 	Luogo: Via Francesc
 o Crispi 1\, Ardea (RM)\n 	Orari: Ore 10:00 (Visita guidata) | Ore 12:00 (
 Concerto Jazz)\n 	Ingresso: Gratuito\n\nPer maggiori informazioni è possi
 bile contattare gli organizzatori ai seguenti indirizzi email: sabap-met-r
 m.comunicazione@cultura.gov.it\, info@prolocoardea.it oppure ardeafilarmon
 ica@tiscali.it.
ATTACH;FMTTYPE=image/jpeg:https://lazioeventi.com/wp-content/uploads/2025/
 11/visita-ardea.jpg
CATEGORIES:Arte e Cultura nel Lazio,Musica, Spettacoli e Danza nel Lazio
LOCATION:Ardea\, Comune\, Ardea\, Roma\, Lazio\, Italia
GEO:41.6094;12.5455
X-APPLE-STRUCTURED-LOCATION;VALUE=URI;X-ADDRESS=Comune\, Ardea\, Roma\, Laz
 io\, Italia;X-APPLE-RADIUS=100;X-TITLE=Ardea:geo:41.6094,12.5455
END:VEVENT
BEGIN:VTIMEZONE
TZID:Europe/Rome
X-LIC-LOCATION:Europe/Rome
BEGIN:STANDARD
DTSTART:20251026T020000
TZOFFSETFROM:+0200
TZOFFSETTO:+0100
TZNAME:CET
END:STANDARD
END:VTIMEZONE
END:VCALENDAR