BEGIN:VCALENDAR
VERSION:2.0
PRODID:-//wp-events-plugin.com//7.2.3.1//EN
TZID:Europe/Rome
X-WR-TIMEZONE:Europe/Rome
BEGIN:VEVENT
UID:43878@lazioeventi.com
DTSTART;TZID=Europe/Rome:20260314T100000
DTEND;TZID=Europe/Rome:20260328T180000
DTSTAMP:20260226T120250Z
URL:https://lazioeventi.com/eventi/igreen
SUMMARY:IGREEN - Nazzano - 14 Marzo 26 10:00
DESCRIPTION:Dal 14 al 28 marzo 2026 il Museo del Fiume di Nazzano ospita IG
 REEN\, un progetto espositivo internazionale promosso da BLU Spazio delle 
 Arti\, patrocinato dal Comune di Nazzano\, curato da Barbara Pavan\, che r
 iunisce diciassette artisti e artiste in un percorso dedicato alla comples
 sità semantica\, simbolica e politica del green nella contemporaneità.\n
 \nIn mostra le opere di Luciana Aironi\, Brigitte Amarger\, Gudrun Bartenb
 erger\, Silvia Beccaria\, Silvia Bellu\, Lindiwe Bhebe\, Susanna Cati\, No
 rberto Cenci\, Magdalena Fermina\, Monica Giovinazzi\, Rolands Krutovs\, N
 aomi Middelmann\, Karola Pezarro\, Sonia Izn Piscicelli\, Liliana Rothschi
 ld\, Lalla Thord e Francesca Torchia\n\nTermine ormai pervasivo nel lingua
 ggio pubblico\, politico ed economico\, esso è divenuto emblema della sos
 tenibilità ma\, allo stesso tempo\, nozione ambigua\, frequentemente sogg
 etta a semplificazioni retoriche\, appropriazioni strumentali e progressiv
 o svuotamento semantico. Se da un lato la sua diffusione ne ha rafforzato 
 la visibilità\, dall’altro ne ha reso instabili i confini concettuali e
  critici. IGREEN riapre interrogativamente il significato del “verde” 
 attraverso la ricerca e la pratica artistica contemporanea. Quali immagini
 \, memorie ed emozioni attiva oggi questo colore-paradigma? Quali dimensio
 ni dell’esperienza mette in risonanza? Quali modelli di relazione tra es
 sere umano e ambiente rende visibili - o\, al contrario\, contribuisce a o
 ccultare - nel quadro delle narrazioni contemporanee sulla sostenibilità?
  E quali contraddizioni emergono dietro la retorica del “green” come p
 romessa di equilibrio? Il verde viene qui assunto non soltanto come catego
 ria cromatica o segno simbolico\, ma anche come spazio di confronto tra ec
 ologia e artificio\, tra immaginari di rigenerazione e dinamiche di consum
 o\, tra natura e costruzione culturale. In questa accezione\, il progetto 
 indaga le diverse declinazioni del verde nel presente\, così come le form
 e di equilibrio e disarmonia che strutturano il rapporto tra l’umano\, l
 a materia e i processi di trasformazione del pianeta.\n\nAttraverso lingua
 ggi visivi eterogenei - dal tessile contemporaneo alle installazioni\, dal
 la scultura alle pratiche ibride e interdisciplinari - IGREEN sollecita un
 a pluralità di riflessioni estetiche\, etiche e politiche. Le opere in mo
 stra sostengono pratiche fondate sull’uso consapevole dei materiali e de
 lle risorse\, su processi di recupero e upcycling capaci di attivare un di
 alogo concreto con il pubblico e con il territorio.\n\nPromossa da BLU Spa
 zio delle Arti\, realtà culturale indipendente inaugurata a Roma nel 2023
  da RAABE APS\, la mostra rappresenta il secondo capitolo di un progetto e
 spositivo dedicato alle declinazioni cromatiche del pianeta. Fondata su un
 a visione dell’arte come strumento di consapevolezza\, rigenerazione e t
 rasformazione sociale\, BLU Spazio delle Arti promuove pratiche artistiche
  capaci di intrecciare ricerca estetica\, responsabilità ambientale e par
 tecipazione culturale. In questo orizzonte\, l’upcycling assume un ruolo
  centrale: non soltanto come tecnica\, ma come postura critica e politica 
 che trasforma lo scarto in materia di nuova possibilità simbolica ed este
 tica. L’arte diviene strumento di ricerca e relazione tra cultura\, ambi
 ente e comunità\, capace di generare nuove forme di consapevolezza e di i
 mmaginare modalità alternative di abitare il mondo.\n\nSCHEDA TECNICA\nTi
 tolo:		IGREEN\nArtist*:	Luciana Aironi\, Brigitte Amarger\, Gudrun Bartenb
 erger\, Silvia Beccaria\, Silvia Bellu\, Lindiwe Bhebe\, Susanna Cati\, No
 rberto Cenci\, Magdalena Fermina\, Monica Giovinazzi\, Rolands Krutovs\, N
 aomi Middelmann\, Karola Pezarro\, Sonia Izn Piscicelli\, Liliana Rothschi
 ld\, Lalla Thord e Francesca Torchia.\nA cura di 	Barbara Pavan\nDate: 		1
 4 - 28 marzo 2026\nSede: 		Museo del Fiume | Piazza della Rocca\, snc - 00
 060 Nazzano (RM)\nInaugurazione:	sabato 14 marzo 2026\, ore 16:00 – 19:0
 0\nOrari:		martedì - sabato 10:00 - 13:00 / 15:00 - 18:00\nInfo:		Tel. +3
 9 0765 332002\nCon il patrocinio di Comune di Nazzano\nCatalogo Al3vie Edi
 tore
ATTACH;FMTTYPE=image/jpeg:https://lazioeventi.com/wp-content/uploads/2026/
 02/Locandina-IGREEN.jpg
CATEGORIES:Arte e Cultura nel Lazio
LOCATION:Nazzano\, Comune\, Nazzano\, Roma\, Lazio\, Italia
GEO:42.2298563;12.596061700000064
X-APPLE-STRUCTURED-LOCATION;VALUE=URI;X-ADDRESS=Comune\, Nazzano\, Roma\, L
 azio\, Italia;X-APPLE-RADIUS=100;X-TITLE=Nazzano:geo:42.2298563,12.5960617
 00000064
END:VEVENT
BEGIN:VTIMEZONE
TZID:Europe/Rome
X-LIC-LOCATION:Europe/Rome
BEGIN:STANDARD
DTSTART:20251026T020000
TZOFFSETFROM:+0200
TZOFFSETTO:+0100
TZNAME:CET
END:STANDARD
END:VTIMEZONE
END:VCALENDAR