BEGIN:VCALENDAR
VERSION:2.0
PRODID:-//wp-events-plugin.com//7.2.3.1//EN
TZID:Europe/Rome
X-WR-TIMEZONE:Europe/Rome
BEGIN:VEVENT
UID:32725@lazioeventi.com
DTSTART;TZID=Europe/Rome:20221022T110000
DTEND;TZID=Europe/Rome:20221023T220000
DTSTAMP:20221017T133016Z
URL:https://lazioeventi.com/eventi/il-bosco-delle-favole-halloween-edition
SUMMARY:Il Bosco delle Favole Halloween edition - Cassino - 22 Ottobre 22 1
 1:00
DESCRIPTION:Scopri il Bosco delle Favole con tutta la famiglia e fai il pie
 no di divertimento ed emozioni immersi nella natura. \nIl Bosco delle Favo
 le con i suoi 110.000 mq è un luogo magico dove troverai 5 Aree a tema co
 n spettacoli ed avventure e attrazioni divertenti oltre a una Baby Dance Z
 one dove scatenarsi con mamma e papà.\n\nIl 15 – 16- 22 – 23 – 29 
 – 30 – 31 Ottobre a Cassino presso le Terme Varroniane  nuovi appuntam
 enti con Il Bosco delle Favole Halloween edition. \n\nIl periodo più spav
 entoso e divertente dell’anno sta per arrivare\, nuovi spettacoli e nuov
 e attrazioni a tema Halloween.\n\nLe diverse Aree Ristoro all’interno de
 l Parco ti delizieranno con tanti menu sfiziosi e gustosi disponibili a pr
 anzo e a cena. Trascorri in serenità la tua visita anche con i neonati e 
 il parco è attrezzato di una Nursery dotata di tutti i confort per le mam
 me. \n\nIl Bosco delle Favole ti aspetta per vivere una fantastica avventu
 ra insieme alla tua famiglia.
ATTACH;FMTTYPE=image/jpeg:https://lazioeventi.com/wp-content/uploads/2022/
 10/halloween-copia.jpg
CATEGORIES:Sport, Tempo Libero e Divertimento nel Lazio
LOCATION:Cassino\, Comune di Cassino\, Cassino\, Frosinone\, Lazio\, Italia
GEO:41.4929518;13.830372300000022
X-APPLE-STRUCTURED-LOCATION;VALUE=URI;X-ADDRESS=Comune di Cassino\, Cassino
 \, Frosinone\, Lazio\, Italia;X-APPLE-RADIUS=100;X-TITLE=Cassino:geo:41.49
 29518,13.830372300000022
END:VEVENT
BEGIN:VTIMEZONE
TZID:Europe/Rome
X-LIC-LOCATION:Europe/Rome
BEGIN:DAYLIGHT
DTSTART:20220327T030000
TZOFFSETFROM:+0100
TZOFFSETTO:+0200
TZNAME:CEST
END:DAYLIGHT
END:VTIMEZONE
END:VCALENDAR