BEGIN:VCALENDAR
VERSION:2.0
PRODID:-//wp-events-plugin.com//7.2.3.1//EN
TZID:Europe/Rome
X-WR-TIMEZONE:Europe/Rome
BEGIN:VEVENT
UID:43865@lazioeventi.com
DTSTART;TZID=Europe/Rome:20260228T100000
DTEND;TZID=Europe/Rome:20260228T150000
DTSTAMP:20260224T141436Z
URL:https://lazioeventi.com/eventi/il-bosco-di-roma-nella-riserva-di-monte
 -mario
SUMMARY:Il bosco di Roma: nella Riserva di Monte Mario - Roma - 28 Febbraio
  26 10:00
DESCRIPTION:Prendetevi una giornata di relax e concedetevi una pausa dal ri
 tmo cittadino! Un urban trek immerso nel verde\, per scoprire uno dei polm
 oni naturali meno conosciuti di Roma\, sul percorso della Via Francigena.
  Con i suoi 139 metri d’altezza\, Monte Mario è il rilievo più impone
 nte del sistema dei Monti della Farnesina e custodisce un vero e proprio m
 osaico di biodiversità. Visiteremo anche il suggestivo Cimitero Militare 
 Francese\, un luogo di grande pace dove la natura si fonde con la memoria
  storica. Ci inoltreremo poi tra sentieri nascosti e punti panoramici (For
 o Italico) per lasciarci sorprendere da un volto inaspettato di Roma: la c
 ampagna romana dentro la città!\n 12 km dislv. 250 m \n\nAPPUNTAMENTO: 
 ore 10\, Bar River\, Lungotevere Maresciallo Diaz 17 Roma https://maps.ap
 p.goo.gl/tCsvVJc1aN94BjLw7\nCOSA PORTARE: scarpe da trekking o antiscivolo
 \, pranzo al sacco\, acqua\, abbigliamento adeguato alla stagione\, utili 
 ni bastoncini da trekking …Il caffè e i dolcetti li offriamo noi.\nQUOT
 A SOCIALE:\n15€ + Tessera Nomos Trek 2026 in corso di validità. Per i n
 on tesserati inviare comunicazione via tel/sms etc. con i propri dati (nom
 e/cognome\, luogo e data di nascita e cf) entro le 18 del giorno precedent
 e l’escursione\nIl solo “Parteciperò” messo all’evento non sarà 
 preso in considerazione se non si è poi contattata la guida.\n\nINFORMAZI
 ONI E PRENOTAZIONI: (preferibilmente Whatsapp)\nGuida ambientale escursio
 nistica\, Marco Marini 3478247257\nGuida ambientale escursionistica\, Lanf
 ranco Giorgi\n\nPer ricevere aggiornamenti sull’evento e vedere tutte le
  escursioni:\n1) Mettere “parteciperò”\n2) Mettere “mi piace” all
 a pagina Nomos Trek – Escursioni e Trekking e cliccare sul tasto “segu
 i” – https://www.facebook.com/NomosTrek\n3) iscriversi al gruppo pubb
 lico Nomos Trek- Associazione Escursionistica –https://www.facebook.com/
 groups/341852695915250\n4) Chat Telegram https://t.me/+5JYvtRdqIH9jZDJk\n
 5) https://www.tiktok.com/@nomostrek\n6) https://www.instagram.com/nomos
 trekescursioni/?hl=it\n7) https://twitter.com/nomos_trek\n8) Visita il si
 to: www.nomostrek.com\n9) https://whatsapp.com/channel/0029VaD7W1hGZNCxYw
 LH5C1Y\n10) https://www.threads.net/@marco71marini\n11) https://www.mess
 enger.com/channel/NomosTrek\n12) https://t.me/nomostrekescursioni\nL’in
 iziativa è riservata ai soci in regola con l’iscrizione relativa all’
 anno 2026 ed in possesso della relativa tessera. Le Guide si riservano il 
 diritto insindacabile di modificare il programma stabilito in caso di cond
 izioni meteorologiche avverse tali da rendere pericoloso l’itinerario\, 
 in caso di impraticabilità di un sentiero\, in caso di impossibilità di 
 un partecipante a continuare l’escursione per problemi fisici e/o psicol
 ogici.\nSi prega inoltre di avvertire gli accompagnatori della presenza di
  eventuali patologie\, o di problematiche che potrebbero manifestarsi nel 
 corso dell’escursione\, grazie per la collaborazione
ATTACH;FMTTYPE=image/jpeg:https://lazioeventi.com/wp-content/uploads/2026/
 02/bosco-di-roma.jpg
CATEGORIES:Sport, Tempo Libero e Divertimento nel Lazio
LOCATION:Roma\, Via Leopardi\, Roma\, Roma\, Lazio\, Italia
GEO:41.8942;12.5017
X-APPLE-STRUCTURED-LOCATION;VALUE=URI;X-ADDRESS=Via Leopardi\, Roma\, Roma\
 , Lazio\, Italia;X-APPLE-RADIUS=100;X-TITLE=Roma:geo:41.8942,12.5017
END:VEVENT
BEGIN:VTIMEZONE
TZID:Europe/Rome
X-LIC-LOCATION:Europe/Rome
BEGIN:STANDARD
DTSTART:20251026T020000
TZOFFSETFROM:+0200
TZOFFSETTO:+0100
TZNAME:CET
END:STANDARD
END:VTIMEZONE
END:VCALENDAR