BEGIN:VCALENDAR
VERSION:2.0
PRODID:-//wp-events-plugin.com//7.2.3.1//EN
TZID:Europe/Rome
X-WR-TIMEZONE:Europe/Rome
BEGIN:VEVENT
UID:34092@lazioeventi.com
DTSTART;TZID=Europe/Rome:20230216T183000
DTEND;TZID=Europe/Rome:20230422T203000
DTSTAMP:20230214T090707Z
URL:https://lazioeventi.com/eventi/il-cammino-delle-ali
SUMMARY:Il cammino delle ali - Roma - 16 Febbraio 23 18:30
DESCRIPTION:Verrà inaugurata giovedì 16 febbraio alle 18:30 per proseguir
 e fino al 22 aprile 2023\, presso la Galleria NOA – Nuova Officina delle
  Arti\, l’esposizione personale di Riccardo Beetroot “Il cammino delle
  ali”\, curata dalla storica dell’arte Francesca Rinaldi.\n\nRiccardo 
 Rapone “Beetroot”\, nato il 28 settembre 1974 a Roma\, è tra i nomi p
 iù conosciuti della street art italiana. Fin da subito si distingue nel p
 anorama per la sua originalità con il progetto Picture Crossing per il qu
 ale le opere vengono poste nelle strade\, affidate al destino di mani e vi
 si sconosciuti\, liberi di appropriarsi di esse. La tecnica che lo contrad
 distingue è il bassorilievo al trapano che prevede la sovrapposizione su 
 di una superficie\, in legno\, tela o polistirene\, di uno strato di cemen
 to sul quale vengono adagiati i colori\, acrilici e spray\, modellati dal 
 trapano\; in tal maniera le opere vengon connotate da un’innovativa rico
 noscibilità materica e tridimensionale.\n\nQuesta mostra\, che per prima 
 presenta anche opere con stencil\, accompagnerà il visitatore tra schiere
  di angeli e illustri uomini che con il loro ingegno e volontà son riusci
 ti a toccar la celeste volta “delle infinite possibilità” per poi tor
 nar alla rassicurante stabilità terrena\, “prova della nostra eterna 
 –e felice– imperfezione”.\n\n“Il cammino delle ali”\nSede: NOA 
 – NUOVA OFFICINA DELLE ARTI\, Largo Giorgio Maccagno\, 28\, 00136. Roma\
 nVernissage: 16 febbraio 2023\, orario 18:30\nApertura: 17 febbraio – 22
  aprile 2023\, lun 15:30-19:30\, ma-ven 10:30-19:30\, sab 10:30-13:30 (il 
 pomeriggio solo su appuntamento)\, domenica chiusi\, ingresso gratuito\nCo
 ntatti: tel: 0633223008\, e-mail: noa@nuovaofficinadellearti.it
ATTACH;FMTTYPE=image/jpeg:https://lazioeventi.com/wp-content/uploads/2023/
 02/Beetroot_La-rinuncia_bassorilievo-e-stencil-su-multistrato-di-pioppo-60
 x130-2023.jpg
CATEGORIES:Arte e Cultura nel Lazio
LOCATION:Roma\, Via Leopardi\, Roma\, Roma\, Lazio\, Italia
GEO:41.8942;12.5017
X-APPLE-STRUCTURED-LOCATION;VALUE=URI;X-ADDRESS=Via Leopardi\, Roma\, Roma\
 , Lazio\, Italia;X-APPLE-RADIUS=100;X-TITLE=Roma:geo:41.8942,12.5017
END:VEVENT
BEGIN:VTIMEZONE
TZID:Europe/Rome
X-LIC-LOCATION:Europe/Rome
BEGIN:STANDARD
DTSTART:20221030T020000
TZOFFSETFROM:+0200
TZOFFSETTO:+0100
TZNAME:CET
END:STANDARD
BEGIN:DAYLIGHT
DTSTART:20230326T030000
TZOFFSETFROM:+0100
TZOFFSETTO:+0200
TZNAME:CEST
END:DAYLIGHT
END:VTIMEZONE
END:VCALENDAR