BEGIN:VCALENDAR
VERSION:2.0
PRODID:-//wp-events-plugin.com//7.2.3.1//EN
TZID:Europe/Rome
X-WR-TIMEZONE:Europe/Rome
BEGIN:VEVENT
UID:30891@lazioeventi.com
DTSTART;TZID=Europe/Rome:20220522T163000
DTEND;TZID=Europe/Rome:20220522T181500
DTSTAMP:20220510T204902Z
URL:https://lazioeventi.com/eventi/il-campidoglio-tra-medioevo-e-rinascime
 nto
SUMMARY:Il Campidoglio tra Medioevo e Rinascimento - Roma - 22 Maggio 22 16
 :30
DESCRIPTION:Iniziamo la nostra visita con la meravigliosa Basilica di Sant
 a Maria in Aracoeli \, la quale  fu costruita sull’Arx\, il punto più
  alto del colle\, nel luogo dove sorgeva il tempio di Giunone Moneta. Dal 
 1250 venne affidata ai francescani e nel 1323 il vecchio nome di S Maria i
 n Capitolio fu sostituito dall’attuale\, con riferimento alla leggenda m
 edievale che voleva che l’imperatore Augusto avesse avuto la visione del
 la Vergine Maria con il Bambino\, seduti su un altare celeste (Ara coeli).
  Inizialmente orientata verso il  Foro romano\, la chiesa ebbe poi l’in
 gresso principale ribaltato verso il Tevere. La nuova facciata fu corredat
 a a metà Trecento dall’imponente scalinata di 124 gradini\, opera notev
 ole per quei tempi realizzata da Simone Andreozzi\, che fu utilizzata per 
 i suoi discorsi al popolo dal tribuno Cola di Rienzo. Oltre agli interess
 anti monumenti tombali realizzati da Giovanni di Cosma\, Arnolfo di Camb
 io\, Andrea Bregno\, Donatello\, Andrea Sansovino\, la chiesa conserva un 
 S. Antonio di Padova\, dipinto nel 1458 da Benozzo Gozzoli e soprattutto
  l’importantissima Cappella Bufalini  con le storie del santo francesc
 ano Bernardino da Siena\, realizzate dal pittore perugino Bernardino di Be
 tto detto il Pinturicchio.\nCome elementi riferiti alla leggenda della vi
 sione di Augusto nella chiesa si trova l’antica colonna d’epoca imper
 iale in granito di Assuan\, il cui fusto venne forato da parte a parte for
 se per essere utilizzata  per calcoli astronomici\, e\, celato sotto la 
 Cappella di S. Elena\, l’altare cosmatesco del XII secolo che raffigura 
 l’apparizione della Vergine all’imperatore. La visita  si conclude ne
 lla cappella che conserva la copia della statua del Bambino Gesù\, inta
 gliata a metà XV secolo nel legno di un ulivo del giardino dei Getsemani\
 , il cui originale fu sottratto nel 1994.  Una volta usciti da questa spe
 ttacolare Basilica\, potremo ammirare gli imponenti  resti del Foro roma
 no per immaginare come dovevano presentarsi\, prima degli scavi\, nel per
 iodo medievale.\nScendendo dal Campidoglio  ci soffermeremo sui resti del
 l’Insula dell’Aracoeli\, abitazione intensiva di epoca imperiale\, che
  nel medioevo venne trasformata in un piccolo convento che prospettava sul
 la piazza\, non più esistente di S. Biagio in Mercatello ( il piccolo mer
 cato).
ATTACH;FMTTYPE=image/jpeg:https://lazioeventi.com/wp-content/uploads/2022/
 05/Il-Campidoglio-tra-Medioevo-e-Rinascimento.jpg
CATEGORIES:Arte e Cultura nel Lazio
LOCATION:Roma\, Via Leopardi\, Roma\, Roma\, Lazio\, Italia
GEO:41.8942;12.5017
X-APPLE-STRUCTURED-LOCATION;VALUE=URI;X-ADDRESS=Via Leopardi\, Roma\, Roma\
 , Lazio\, Italia;X-APPLE-RADIUS=100;X-TITLE=Roma:geo:41.8942,12.5017
END:VEVENT
BEGIN:VTIMEZONE
TZID:Europe/Rome
X-LIC-LOCATION:Europe/Rome
BEGIN:DAYLIGHT
DTSTART:20220327T030000
TZOFFSETFROM:+0100
TZOFFSETTO:+0200
TZNAME:CEST
END:DAYLIGHT
END:VTIMEZONE
END:VCALENDAR