BEGIN:VCALENDAR
VERSION:2.0
PRODID:-//wp-events-plugin.com//7.2.3.1//EN
TZID:Europe/Rome
X-WR-TIMEZONE:Europe/Rome
BEGIN:VEVENT
UID:28645@lazioeventi.com
DTSTART;TZID=Europe/Rome;VALUE=DATE:20211016
DTEND;TZID=Europe/Rome;VALUE=DATE:20211018
DTSTAMP:20211007T094703Z
URL:https://lazioeventi.com/eventi/il-casino-del-bel-respiro
SUMMARY:Il Casino del Bel Respiro - Roma - 16 Ottobre 21 00:00
DESCRIPTION:\n\n\n\n\n\n\n\n\n\n\n\n\n\nNell'ampio spazio verde che si affa
 ccia sul complesso Vaticano e che si estende fino alla sommità del Gianic
 olo\, il colle “aureo” della sacralità e della memoria\, sorge il Cas
 ino del Bel Respiro: è un terreno fertile e produttivo\, fin dall'antichi
 tà coltivato a vigne e caratterizzato dalla presenza di abbondante acqua 
 sorgiva alla quale si aggiunge\, nel 2 a.C. \, l' aqua Alsietina e nel 109
  d.C. l'acquedotto dell' aqua Traiana. E' affiancato dalla via Aurelia Vet
 us\, una importante arteria di collegamento che si conclude alla Porta Aur
 elia\, vicino alla attuale Porta S. Pancrazio.\n\n\n\n\n\n\nLa famiglia Pa
 mphjli\, di origini umbre\, almeno dal secolo XV è nella Curia Romana: Pa
 mphjlio Pamphjli decise nel 1630 di acquistare la piccola e preziosa vigna
  del giovane finanziere Giovanni Rotoli. Alle soglie del Vaticano\, nelle 
 vicinanze della basilica di S. Pancrazio\, lungo la via Aurelia Antica\, l
 a nuova villa\, di cui papa Innocenzo X affida ad Alessandro Algardi la co
 struzione\, con progetto originario di Gian Lorenzo Bernini\, è adeguata 
 al nuovo rango sociale della famiglia e in grado di competere con le ville
  delle più importati famiglie papali. Nel 1985 Bettino Craxi inaugura il 
 Casino del Bel Respiro come Sede di Rappresentanza della Presidenza del Co
 nsiglio dei Ministri.\n\nDefinito “Giardino di delizie”\, come le vill
 e romane settecentesche\, con un fasto sottile\, una eleganza raffinata pr
 opria della società dominante di allora\, nasce così il Casino del Bel R
 espiro\, frutto della collaborazione tra papa Innocenzo X e suo nipote\, i
 l card. Camillo Pamphjli. La villa è immaginata come effige dl potere pon
 tificio\, diversa dal progetto iniziale di Virgilio Spada\, dove già il B
 ernini aveva realizzato una pianta quadrata con due ali laterali\, un equi
 librio di raffinata verticalità\, con una particolare attenzione al paesa
 ggio\, con grandi visuali e soluzioni di giardini su tre livelli.\nCOSA SC
 OPRIRETE DURANTE LE GIORNATE FAI?\nL'eccezionale percorso di visita\, che 
 si snoda lungo il viale d'accesso al Casino del Bel Respiro\, inizia con l
 a sua facciata principale dove la natura è la sola protagonista: un “te
 atro davanti al palazzo”\, come affermava Camillo Pamphjili al momento d
 ell'acquisto\, con un grande parco a forte valenza storica e botanico-natu
 ralistica. Attraverso un raffinato vestibolo si entra nelle sale interne a
 rredate di statue e di busti di marmo\, di stucchi\, di affreschi\, di dip
 inti: uno scrigno di gusto antiquario ed archeologico con il quale Camillo
  ha voluto così promuovere l'inizio di un duraturo periodo di pace e di p
 rosperità sotto il pontificato di Innocenzo X Pamphjli. Nel giardino segr
 eto poi si passeggia all'interno delle siepi di bosso nano\, di progetto s
 ettecentesco\, con un esemplare botanico di rara diffusione\, il cipresso 
 calvo. Dal 1985\, anno in cui Bettino Craxi la inaugura come sede di rappr
 esentanza della Presidenza del Consiglio dei Ministri\, la villa fa da cor
 nice a vari incontri ufficiali promossi dai Presidenti nel corso degli ann
 i.\nLUOGO SOLITAMENTE CHIUSO\nluogo istituzionale\n\n\n\nATTENZIONE!\nPREN
 OTAZIONE OBBLIGATORIA. Ingresso consentito previa esibizione di un documen
 to di identità in corso di validità.\n\n\n\n\n\n\n\nORARIO\nSabato: 09:
 30 - 17:00\nNote: Visite da 13 persone ogni 10 minuti - dalle ore 9.30 all
 e ore 17.10 - durata visita 120 minuti circa\nDomenica: 09:30 - 17:00\nNo
 te: Visite da 13 persone ogni 10 minuti - dalle ore 9.30 alle ore 17.10 - 
 durata visita 120 minuti circa\n\nNOTE PER LA VISITA\nNon è consentito l'
 accesso con  animali\, caschi\, zaini\, borse ingombranti.\n\nIndossare 
 un abbigliamento consono.\n\nNon sarà consentito l’ingresso oltre l’o
 rario del proprio turno di prenotazione.\n\nPresentarsi 15’ prima dell
 ’orario della visita in Viale  Bartolomeo Rozat\, all’interno di Vill
 a Pamphilj (ingresso da Largo III Giugno 1849 - Arco dei Quattro Venti –
  lato di Porta S. Pancrazio) muniti di un documento in corso di validità 
 e con il Green Pass.\n\nAll’interno di Villa Pamphilj\, ingresso da Larg
 o III Giugno 1849 - Arco dei Quattro Venti – lato di Porta S. Pancrazio\
 n\n\n\n\n\n\n\n\n\n\n\n\n\n\n\n\n
ATTACH;FMTTYPE=image/jpeg:https://lazioeventi.com/wp-content/uploads/2021/
 10/Casino-del-Bel-Respiro.jpg
CATEGORIES:Arte e Cultura nel Lazio,Giornate FAI
LOCATION:Roma\, Via Leopardi\, Roma\, Roma\, Lazio\, Italia
GEO:41.8942;12.5017
X-APPLE-STRUCTURED-LOCATION;VALUE=URI;X-ADDRESS=Via Leopardi\, Roma\, Roma\
 , Lazio\, Italia;X-APPLE-RADIUS=100;X-TITLE=Roma:geo:41.8942,12.5017
END:VEVENT
BEGIN:VTIMEZONE
TZID:Europe/Rome
X-LIC-LOCATION:Europe/Rome
BEGIN:DAYLIGHT
DTSTART:20210328T030000
TZOFFSETFROM:+0100
TZOFFSETTO:+0200
TZNAME:CEST
END:DAYLIGHT
END:VTIMEZONE
END:VCALENDAR