BEGIN:VCALENDAR
VERSION:2.0
PRODID:-//wp-events-plugin.com//7.2.3.1//EN
TZID:Europe/Rome
X-WR-TIMEZONE:Europe/Rome
BEGIN:VEVENT
UID:28799@lazioeventi.com
DTSTART;TZID=Europe/Rome:20211031T200000
DTEND;TZID=Europe/Rome:20211031T234500
DTSTAMP:20211112T094748Z
URL:https://lazioeventi.com/eventi/il-castello-della-paura
SUMMARY:Il Castello della Paura - Torri in Sabina - 31 Ottobre 21 20:00
DESCRIPTION:Notte di spettri\, vampiri e streghe. La serata del Castello de
 lla Paura anima il borgo medievale di Rocchette con “mostruosi” appun
 tamenti per adulti e bambini. Un ricco giro gastronomico con sapori autunn
 ali tipici sabini in un’ambientazione e un’atmosfera unica che solo il
  borgo di Rocchette può dare. Le cantine del paese si apriranno con 7 tap
 pe di degustazione. Uno spettacolo itinerante che porterà i partecipanti 
 per i vicoli del paese dal cuore della piazza fin in cima alla chiesa.\n\n
 La festa propone allestimenti\, decorazioni\, maschere e musica per un’e
 mozione unica e terrificante. Particolare attrazione è costituita dal “
 tour della paura” guidato\, dalla “la casa del delitto”\, da spettac
 oli con il fuoco e dal concerto degli “Eldar”.\n\nIl biglietto acquist
 ato è personale comprende solamente il tour gastronomico con sette piatti
  tipici somministrati nelle diverse cantine con bevande incluse. Oltre al 
 tour gastronomico sono presenti diverse attrazioni:\n\n 	Concerto degli 
 “Eldar” (incluso nel biglietto)\;\n 	Spettacoli con il fuoco (incluso 
 nel biglietto)\;\n 	Tour della paura (incluso nel biglietto)\;\n 	La casa 
 del delitto (€ 1 a persona da pagare sul posto).\n\nGli ingressi e i rel
 ativi biglietti sono contingentati e sono soggetti ad esaurimento. Non è 
 possibile entrare all’interno della manifestazione senza biglietto. Gli 
 avventori per entrare all’interno della manifestazione dovranno avere ob
 bligatoriamente Green Pass e Mascherina.\n\nTariffe sono:\n\n 	Intero rimb
 orsabile: € 20 + 2\,5 diritti di prevendita\n 	Ridotto bambini rimborsab
 ile: € 12 + 2\,5 diritti di prevendita\n\ninfo: https://www.centopercent
 orocchette.it/news-eventi\n\nprevendite: https://ticketitalia.com/il-caste
 llo-della-paura\n\n \n\nVi aspettiamo a Rocchette di Torri in Sabina (RI)
  – Piazza Maggiore
ATTACH;FMTTYPE=image/jpeg:https://lazioeventi.com/wp-content/uploads/2021/
 10/WhatsApp-Image-2021-10-13-at-17.31.02.jpeg
CATEGORIES:Sagre, Gastronomia e Tradizioni nel Lazio
LOCATION:Torri in Sabina\, Comune di Torri in Sabina\, Torri in Sabina\, Ri
 eti\, Lazio\, Italia
GEO:42.3532;12.6385
X-APPLE-STRUCTURED-LOCATION;VALUE=URI;X-ADDRESS=Comune di Torri in Sabina\,
  Torri in Sabina\, Rieti\, Lazio\, Italia;X-APPLE-RADIUS=100;X-TITLE=Torri
  in Sabina:geo:42.3532,12.6385
END:VEVENT
BEGIN:VTIMEZONE
TZID:Europe/Rome
X-LIC-LOCATION:Europe/Rome
BEGIN:STANDARD
DTSTART:20211031T020000
TZOFFSETFROM:+0200
TZOFFSETTO:+0100
TZNAME:CET
END:STANDARD
END:VTIMEZONE
END:VCALENDAR