BEGIN:VCALENDAR
VERSION:2.0
PRODID:-//wp-events-plugin.com//7.2.3.1//EN
TZID:Europe/Rome
X-WR-TIMEZONE:Europe/Rome
BEGIN:VEVENT
UID:41016@lazioeventi.com
DTSTART;TZID=Europe/Rome:20250329T170000
DTEND;TZID=Europe/Rome:20250329T190000
DTSTAMP:20250324T201336Z
URL:https://lazioeventi.com/eventi/il-cielo-capovolto
SUMMARY:Il Cielo capovolto - Viterbo - 29 Marzo 25 17:00
DESCRIPTION:Viterbo: una fermata Breve che innesca un grande viaggio\nPrese
 ntazione del romanzo alla Libreria Etruria\n\nSabato 29 marzo 2025 alle or
 e 17:00 presso la Libreria Etruria di Viterbo in via Giacomo Matteotti\, 6
 7 sarà presentato il romanzo Il cielo capovolto di Giuseppe Greco\, pubbl
 icato da Spunto edizioni. \nÈ possibile tornare a vivere quando perdiamo 
 chi si ama? \nAll’urgenza di una domanda posta all’autore da un’adol
 escente di sedici anni\, L’autore tenta di rispondere con un libro che a
 pre alla possibilità di riscoprire l’autenticità di amare per vivere.\
 nNon è un’urgenza soltanto degli adolescenti di questa società frettol
 osa e convulsa\, è anche una risposta a tutti noi quando perdiamo chi ci 
 era vicino per molti anni.\nUna lettura questa che coniuga lo “spartito 
 musicale” di una drammaturgia shakespeariana e l’armonia eterna delle 
 stagioni\, un diario lirico che sfida l’errore del tempo e apre al senso
  profondo dell’attesa. \n\n“ - Bellissimo questo girasole.\nGrazie\, s
 i chiama Iole.\n - Gli hai messo proprio un bel nome.\nNon gliel’ho mess
 o io. È proprio il suo nome.”\n\nUn dialogo con noi stessi che ci fa sc
 oprire chi siamo\, cosa vogliamo e dove vorremmo andare\; poi ci riuscirem
 o.\nEnzo Trifolelli dialogherà con l’autore\, già ospite alla Libreria
  Etruria in occasione della presentazione del suo romanzo d’esordio\, Ne
 ville (2023).\n\nL’ingresso e libero e si potrà intervenire e aprire u
 n confronto di esperienze.
ATTACH;FMTTYPE=image/jpeg:https://lazioeventi.com/wp-content/uploads/2025/
 03/Locandina-Libro-IL-CIELO-CAPOVOLTO.jpg
CATEGORIES:Arte e Cultura nel Lazio
LOCATION:Viterbo\, Comune\, Viterbo\, Viterbo\, Lazio\, Italia
GEO:42.417;12.1051
X-APPLE-STRUCTURED-LOCATION;VALUE=URI;X-ADDRESS=Comune\, Viterbo\, Viterbo\
 , Lazio\, Italia;X-APPLE-RADIUS=100;X-TITLE=Viterbo:geo:42.417,12.1051
END:VEVENT
BEGIN:VTIMEZONE
TZID:Europe/Rome
X-LIC-LOCATION:Europe/Rome
BEGIN:STANDARD
DTSTART:20241027T020000
TZOFFSETFROM:+0200
TZOFFSETTO:+0100
TZNAME:CET
END:STANDARD
END:VTIMEZONE
END:VCALENDAR