BEGIN:VCALENDAR
VERSION:2.0
PRODID:-//wp-events-plugin.com//7.2.3.1//EN
TZID:Europe/Rome
X-WR-TIMEZONE:Europe/Rome
BEGIN:VEVENT
UID:29825@lazioeventi.com
DTSTART;TZID=Europe/Rome:20220211T204500
DTEND;TZID=Europe/Rome:20220211T223000
DTSTAMP:20220321T100922Z
URL:https://lazioeventi.com/eventi/il-cielo-del-mese-dagli-antichi-miti-ai
 -buchi-neri
SUMMARY:Il cielo del mese\, dagli antichi miti ai buchi neri - Rocca di Pap
 a - 11 Febbraio 22 20:45
DESCRIPTION:Venerdì 11 febbraio alle ore 20:45 presso il Parco Astronomico
  “Livio Gratton” di Rocca di Papa – nel cuore del Parco Regionale de
 i Castelli Romani – si terrà l’evento “Il cielo del mese\, dagli an
 tichi miti ai buchi neri” organizzato dall’Associazione Tuscolana di A
 stronomia (ATA) – attivamente impegnata da oltre 25 anni nella promozion
 e e diffusione della cultura scientifica – e dalla città di Rocca di Pa
 pa\, con il patrocinio della Regione Lazio.\n\nL’evento\, inserito nell
 ’ambito dell’iniziativa “Vivi Rocca di Papa”\, permetterà ad adul
 ti e bambini di immergersi nell’affascinante mondo dell’astronomia e d
 i vivere una serata all’insegna della scoperta del cielo e dell’emozio
 ne.\n\nSotto la cupola di 7 metri di diametro del Planetario fisso\, gli e
 sperti operatori dell’Associazione Tuscolana di Astronomia illustreranno
  al pubblico le meraviglie del cielo con l’ausilio di foto astronomiche 
 spettacolari e di video immersivi a 360 gradi.\n\nDurante lo spettacolo\, 
 di grande impatto emozionale e di grande valore educativo\, la scienza e i
 l racconto dei miti legati agli oggetti celesti si fonderanno insieme per 
 regalare al pubblico un’esperienza indimenticabile. Lo spettacolo multim
 ediale di astronomia sarà abbinato alla visita guidata alle sale espositi
 ve e ai giardini dotati di strumenti astronomici (meridiane\, notturlabi\,
  sfere armillari).\n\nIl pubblico potrà inoltre osservare a occhio nudo e
  al telescopio tutti gli oggetti celesti visibili\, sotto la guida degli e
 sperti operatori dell’Associazione.\n\nIn caso di maltempo\, l’osserva
 zione sarà sostituita da una visita al telescopio alloggiato nella cupola
  principale\, con spiegazioni sull’attività di ricerca svolta dall’As
 sociazione.\n\n⇒ Per partecipare è obbligatorio prenotarsi ENTRO le ore
  13:00 di venerdì 11 febbraio (fino a esaurimento posti) compilando il mo
 dulo su https://lnx.ataonweb.it/wp/events/il-cielo-del-mese-dagli-antichi-
 miti-ai-buchi-neri-5/
ATTACH;FMTTYPE=image/jpeg:https://lazioeventi.com/wp-content/uploads/2022/
 02/livio-gratton.jpg
CATEGORIES:Arte e Cultura nel Lazio
LOCATION:Rocca di Papa\, Comune di Rocca di Papa\, Rocca di Papa\, Roma\, L
 azio\, Italia
GEO:41.762;12.7081
X-APPLE-STRUCTURED-LOCATION;VALUE=URI;X-ADDRESS=Comune di Rocca di Papa\, R
 occa di Papa\, Roma\, Lazio\, Italia;X-APPLE-RADIUS=100;X-TITLE=Rocca di P
 apa:geo:41.762,12.7081
END:VEVENT
BEGIN:VTIMEZONE
TZID:Europe/Rome
X-LIC-LOCATION:Europe/Rome
BEGIN:STANDARD
DTSTART:20211031T020000
TZOFFSETFROM:+0200
TZOFFSETTO:+0100
TZNAME:CET
END:STANDARD
END:VTIMEZONE
END:VCALENDAR