BEGIN:VCALENDAR
VERSION:2.0
PRODID:-//wp-events-plugin.com//7.2.3.1//EN
TZID:Europe/Rome
X-WR-TIMEZONE:Europe/Rome
BEGIN:VEVENT
UID:31850@lazioeventi.com
DTSTART;TZID=Europe/Rome:20220808T203000
DTEND;TZID=Europe/Rome:20220808T220000
DTSTAMP:20220802T193541Z
URL:https://lazioeventi.com/eventi/il-cimento-dellarmonia-e-dellinvenzione
SUMMARY:Il cimento dell'armonia e dell'invenzione - Gaeta - 8 Agosto 22 20:
 30
DESCRIPTION:Quintetto d'archi F.M.N.\nViolino\nViola\nVioloncello\nContrabb
 asso\nRiccardo Zamuner violinista solista\nProgramma\nA.Vitali Ciaccona\nA
 .Vivaldi Le Quattro Stagioni\n\nL'Associazione Musicale "San Giovanni a Ma
 re"\, associazione di concerti e di promozione della vita musicale\, nasce
  a Gaeta nel giugno del 1971. A fondarla è un gruppo di "amici della musi
 ca"\, guidati dalla Prof.ssa Idea Aletta\, dall'Ing. Domenico Simeone\, da
 lla Dott.ssa Claudia Rinonapoli Piccirillo\, dalla Prof.ssa Vera Liguori M
 ignano\, che si propongono di dar vita a stagioni concertistiche di alto l
 ivello\, a festival musicali che - d'inverno e soprattutto d'estate - fann
 o di Gaeta un punto di riferimento\, un polo di attrazione culturale oltre
  che turistica.\n
ATTACH;FMTTYPE=image/jpeg:https://lazioeventi.com/wp-content/uploads/2022/
 08/musica-gaeta.jpg
CATEGORIES:Musica, Spettacoli e Danza nel Lazio
LOCATION:Gaeta\, Comune\, Gaeta\, Latina\, Lazio\, Italia
GEO:41.2138166;13.571388500000012
X-APPLE-STRUCTURED-LOCATION;VALUE=URI;X-ADDRESS=Comune\, Gaeta\, Latina\, L
 azio\, Italia;X-APPLE-RADIUS=100;X-TITLE=Gaeta:geo:41.2138166,13.571388500
 000012
END:VEVENT
BEGIN:VTIMEZONE
TZID:Europe/Rome
X-LIC-LOCATION:Europe/Rome
BEGIN:DAYLIGHT
DTSTART:20220327T030000
TZOFFSETFROM:+0100
TZOFFSETTO:+0200
TZNAME:CEST
END:DAYLIGHT
END:VTIMEZONE
END:VCALENDAR