BEGIN:VCALENDAR
VERSION:2.0
PRODID:-//wp-events-plugin.com//7.2.3.1//EN
TZID:Europe/Rome
X-WR-TIMEZONE:Europe/Rome
BEGIN:VEVENT
UID:30080@lazioeventi.com
DTSTART:20220319T153000Z
DTEND:20220320T170000Z
DTSTAMP:20220314T100257Z
URL:https://lazioeventi.com/eventi/il-circo-delle-pulici-del-prof-bustric
SUMMARY:Il circo delle pulici del prof. Bustric - Roma - 19 Marzo 22 16:30
DESCRIPTION:Arriva da Firenze il prossimo spettacolo della rassegna Infanzi
 e e adolescenze in gioco 2022 a Centrale Preneste Teatro (Via Alberto da G
 iussano\, 58): sabato 19 e domenica 20 marzo alle ore 16.30 va in scena 
 “Il circo delle pulici del prof. Bustric” di e con Sergio Bini. Uno sp
 ettacolo di giocoleria\, pantomima e micromagie.\n\nDall’800 il circo de
 lle pulci gira per le piazze delle città portando con sé l’idea di uno
  spettacolo di arte visiva racchiuso in una piccola valigia\, dove anche l
 e grandi illusioni sono minuscole. A condurre questo viaggio giocoso in tu
 tto quanto esiste e non si vede ci sarà il Professor Bustric: la recitazi
 one e il racconto si uniranno alla pantomima\, alla giocoleria e alla magi
 a. Una magia ricca di sorprese e piccole genialità che permettono la mera
 viglia.\n\nAdatto dai 4 anni. Il costo del biglietto è per tutti di 6 eur
 o.\n\nAcquisto on-line su www.centraleprenesteteatro.it o in biglietteria 
 previa prenotazione al numero 06 27801063 o all’indirizzo mail info@ruot
 alibera.eu (lun./ven. ore 10.00/17.00)\n\nSabato e domenica esclusivamente
  tramite sms o whatsapp al numero 320/2392833\n\nPrenotazione obbligatoria
 \n\n&nbsp\;\n\nCOVID 19 - LINEE GUIDA PER L’ACCESSO ALLE ATTIVITÀ’\nA
  seguito del dl 221/2021 del 24 dicembre 2021\, riepiloghiamo le regole pe
 r accedere in teatro.\nPotranno accedere in teatro solo i possessori di ce
 rtificazione verde da vaccinazione o guarigione (super Green Pass).\nObbli
 go di utilizzo in modo corretto della mascherina di tipo FFP2 per tutta la
  durata di permanenza nei locali del Teatro.\nDivieto di consumare cibo o 
 bevande all’interno della sala teatrale.\nTali disposizioni non verranno
  applicate ai soggetti esenti per età o sulla base di idonea certificazio
 ne medica.\nPer l’accesso alla manifestazione rimane l'obbligo di sottop
 orsi alla misurazione della temperatura e all’igienizzazione delle mani.
 \nLa prenotazione per l'ingresso ai vari eventi in programma resta obbliga
 toria.
ATTACH;FMTTYPE=image/jpeg:https://lazioeventi.com/wp-content/uploads/2022/
 03/Il-prof-Bustric1.jpg
CATEGORIES:Musica, Spettacoli e Danza nel Lazio
LOCATION:Roma\, Via Leopardi\, Roma\, Roma\, Lazio\, Italia
GEO:41.8942;12.5017
X-APPLE-STRUCTURED-LOCATION;VALUE=URI;X-ADDRESS=Via Leopardi\, Roma\, Roma\
 , Lazio\, Italia;X-APPLE-RADIUS=100;X-TITLE=Roma:geo:41.8942,12.5017
END:VEVENT
END:VCALENDAR