BEGIN:VCALENDAR
VERSION:2.0
PRODID:-//wp-events-plugin.com//7.2.3.1//EN
TZID:Europe/Rome
X-WR-TIMEZONE:Europe/Rome
BEGIN:VEVENT
UID:33085@lazioeventi.com
DTSTART;TZID=Europe/Rome:20221130T093000
DTEND;TZID=Europe/Rome:20221130T123000
DTSTAMP:20221116T073935Z
URL:https://lazioeventi.com/eventi/il-corpo-nelluniverso-virtuale
SUMMARY:Il corpo nell’universo virtuale - Roma - 30 Novembre 22 09:30
DESCRIPTION:Il corpo nell’universo virtuale\nlezione/laboratorio\ncondott
 o da Ariella Vidach\n\nINGRESSO GRATUITO\n\nIl laboratorio condotto da Ari
 ella Vidach\, coreografa\, danzatrice e direttrice artistica di AiEP/ Avve
 nture in Elicottero Prodotti\, della durata di 3 ore prevede lo sviluppo d
 i una sessione teorica e una pratica con la presentazione dei programmi e
  dei sistemi interattivi realizzati dalla coreografa per i propri spettaco
 li e approfondimenti tecnici ed estetici in riferimento alla storia della 
 coreografia interattiva. Una seconda parte del laboratorio fonderà il lav
 oro sulle metodologie di movimento in relazione ai dispositivi sviluppati 
 con le tecnologie interattive e dal 2020 con la realtà virtuale.\n\nIl la
 boratorio è rivolto a coreografi\, danzatori\, performer\, musicisti\, co
 mpositori\, interaction designer\, artisti visivi e new media\, studenti\,
  filosofi\, giornalisti\, critici\, studiosi e a tutti gli interessati. Ca
 ratteristiche e competenze richieste: basi di movimento\, attitudine alla 
 sperimentazione e all’interdisciplinarità nei linguaggi. \n\nMODALITÀ 
 DI ISCRIZIONE:\nPartecipazione gratuita con 10€ di quota assicurativa. I
 scrizioni a numero chiuso con un massimo di 20 partecipanti. Qualora fosse
  necessario verrà effettuata una selezione. La domanda di iscrizione deve
  essere inoltrata nel più breve tempo possibile ed entro venerdì 25 nove
 mbre a info@cietwain.com corredata di breve lettera motivazionale e curric
 ulum vitae. \n\nBIOGRAFIA:\nAriella Vidach (coreografa e danzatrice) si fo
 rma a New York\, dove ha modo di incontrare e\nstudiare con i protagonisti
  della danza postmoderna americana da Trisha Brown\, Twyla Tharp\,\nDana R
 eitz\, a Steve Paxton e Bill T. Jones. Nel 1996 fonda con il regista e vid
 eo maker Claudio Prati a Milano la Compagnia di danza Ariella Vidach – A
 iEP\, con la quale producono performance multimediali che affiancano alla 
 ricerca coreografica l’interesse per il rapporto tra corpo e tecnologia.
  Nel 2017 AiEP riceve il “Premio Speciale Danza” nell’ambito dei Pre
 mi Svizzeri di Danza promossi dal BAC UFC – Ufficio Federale della Cultu
 ra. Dal 2021 sono impegnati in una ricerca sulla danza in VR in collaboraz
 ione con il MEET Digital Culture Center di Milano.\n\n“Il corpo nell’u
 niverso virtuale” è organizzato all’interno di “Scena Pubblica – 
 IN/OUT”\, una stagione culturale a cura di Twain Centro di Produzione Da
 nza\, con la direzione artistica di Loredana Parrella\, prevista dal 22 ot
 tobre al 22 dicembre 2022 nel Municipio VIII di Roma e articolata in 42 ap
 puntamenti tra spettacoli di teatro\, circo contemporaneo\, musica e danza
 \, performance urbane\, incontri con gli artisti e laboratori per adulti e
  bambini tutti ad ingresso gratuito. \n\nIl progetto è realizzato con il 
 sostegno del Ministero della Cultura - Direzione generale Spettacolo ed è
  vincitore dell'Avviso Pubblico Lo spettacolo dal vivo fuori dal Centro 
 - Anno 2022 promosso da Roma Capitale - Dipartimento Attività Culturali.
  Il progetto è realizzato con il patrocinio del Municipio VIII di Roma Ca
 pitale e in collaborazione con la Biblioteca Arcipelago Auditorium.\n\nIng
 resso gratuito. Prenotazione obbligatoria
ATTACH;FMTTYPE=image/jpeg:https://lazioeventi.com/wp-content/uploads/2022/
 11/SP-Vidach.jpg
CATEGORIES:Musica, Spettacoli e Danza nel Lazio,Varie
LOCATION:Roma\, Via Leopardi\, Roma\, Roma\, Lazio\, Italia
GEO:41.8942;12.5017
X-APPLE-STRUCTURED-LOCATION;VALUE=URI;X-ADDRESS=Via Leopardi\, Roma\, Roma\
 , Lazio\, Italia;X-APPLE-RADIUS=100;X-TITLE=Roma:geo:41.8942,12.5017
END:VEVENT
BEGIN:VTIMEZONE
TZID:Europe/Rome
X-LIC-LOCATION:Europe/Rome
BEGIN:STANDARD
DTSTART:20221030T020000
TZOFFSETFROM:+0200
TZOFFSETTO:+0100
TZNAME:CET
END:STANDARD
END:VTIMEZONE
END:VCALENDAR