BEGIN:VCALENDAR
VERSION:2.0
PRODID:-//wp-events-plugin.com//7.2.3.1//EN
TZID:Europe/Rome
X-WR-TIMEZONE:Europe/Rome
BEGIN:VEVENT
UID:41014@lazioeventi.com
DTSTART;TZID=Europe/Rome:20250406T183000
DTEND;TZID=Europe/Rome:20250406T200000
DTSTAMP:20250324T200936Z
URL:https://lazioeventi.com/eventi/il-delia-scala-in-musica
SUMMARY:Il Delia Scala in Musica - Bracciano - 6 Aprile 25 18:30
DESCRIPTION:A Bracciano arriva “Il Delia Scala in Musica” con due conce
 rti da non perdere il 6 e il 13 aprile 2025\n\nMini stagione con due appun
 tamenti ad ingresso libero per iniziativa del Comune di Bracciano\, Claudi
 a Biadi Music Academy grazie al contributo della Presidenza del Consiglio 
 Regionale del Lazio\n\nProposte originali a Bracciano con il progetto “D
 elia Scala in Musica” che propone  due concerti ad ingresso libero in pr
 ogramma domenica 6 aprile e domenica 13 aprile alle 18.30 negli spazi teat
 rali in via delle Ferriere 16 dedicati alla indimenticata soubrette\, brac
 cianese di nascita. \n\nUna mini stagione musicale che nasce dalla collabo
 razione tra il Comune di Bracciano\, l’associazione Claudia Biadi Music 
 Academy APS e che si avvale del contributo della Presidenza del Consiglio 
 Regionale del Lazio. \n\nIl direttore artistico Amarilli Nizza\, soprano d
 i fama internazionale e Biancamaria Alberi assessore alla Cultura del Comu
 ne di Bracciano hanno pensato ad un programma musicale che\, seguendo la l
 inea del tempo\, possa essere in grado di avvicinare alla musica la più a
 mpia platea possibile di pubblico. \n\nDue finestre temporali su altrettan
 ti generi non molto spesso frequentati. Arie\, canzoni e cantate\, delle q
 uali alcune molto celebri\, sono la proposta del primo concerto “Dal Rin
 ascimento al Barocco” che vede interprete un affiatato Duo Cum Corde com
 posto dal tenore Stefano Osbat e dal chitarrista Agazio Tedesco. Appuntame
 nto musicale fatto di un delicato repertorio che apre con un omaggio a Gio
 vanni Pierluigi da Palestrina\, nel cinquecentenario della nascita\, per  
 poi svilupparsi in brani di vari compositori attivi in epoca rinascimental
 e e barocca. \n\nE’ invece un viaggio a ritmo della celebre danza vienne
 se il secondo concerto “Sulle Ali del Valzer”. Sarà una carrellata tr
 a i più celebri brani di valzer con un omaggio a Johann Strauss nel bicen
 tenario della nascita. Sul palco si alterneranno tre valenti soprano\, Fra
 ncesca Paolucci\, Lisadora Valenza\, Paola Angela Giovani. Al pianoforte M
 assimiliano Tisano e Simone Colucci. \n\nIl Progetto “Delia Scala in Mus
 ica” è inserito in “Intuizioni di Primavera\, Teatro\, Cinema\, Music
 a\, Danza La rassegna che non si rassegna” ideata dall’Assessorato all
 a Cultura del Comune di Bracciano in programma dal 5 aprile al 25 maggio a
 l Teatro del Lago “Delia Scala”. \n\n“Con il Delia Scala in Musica v
 ogliamo esplorare repertori poco frequentati” sottolinea il direttore ar
 tistico Nizza. “Siamo sicuri che i due appuntamenti attrarranno a Bracci
 ano un pubblico appassionato da tutta l’area del lago e non solo. L’au
 spicio è quello di vedere molti giovani. Ringraziamo il Comune di Braccia
 no ed in particolare l’assessora Biancamaria Alberi per aver accolto con
  entusiasmo la nostra proposta musicale. Ringraziamenti vanno - aggiunge N
 izza - anche alla Presidenza del Consiglio regionale del Lazio che ha conc
 esso un contributo a sostegno della manifestazione”. \n\n"Torna con la p
 rimavera - sottolinea l'assessore alla Cultura Biancamaria Alberi - il ris
 coperto protagonismo del Teatro comunale Delia Scala che ospita una rasseg
 na di circa due mesi di musica\, cinema\, teatro e danza. All’interno de
 lla rassegna “Intuizioni di Primavera. La rassegna che non si rassegna
 ”\, torna anche\, dopo un periodo di assenza dalle piazze braccianesi\, 
 la lirica con due serate di musica rinascimentale e barocca\, la prima\, s
 eguita da una seconda serata dedicata al Valzer. Un invito a respirare atm
 osfere magiche e suggestive\, alla ricerca di una sempre maggiore ampiezza
  dell’offerta culturale di Bracciano. L’amministrazione comunale conti
 nua così - commenta Alberi - il suo percorso di costruzione di politiche 
 culturali rivolte alla propria alla comunità proponendo messaggi ed arti 
 diverse che mettono in scena linguaggi originali e affascinanti. Le due se
 rate di lirica offrono emozioni autentiche al pubblico che\, spero\, sarà
  numeroso".\n\nLa Claudia Biadi Music Academy ringrazia AmePizza (Via Angu
 illarese 94/a\, Anguillara Sabazia e Viale Odescalchi 17 Bracciano) e Farm
 acia Morelli (Viale Odescalchi 10 - Bracciano) per il contributo concesso 
 alla manifestazione. \n\nPer informazioni e prenotazioni: claudiabiadimusi
 cacademy@gmail.com
ATTACH;FMTTYPE=image/jpeg:https://lazioeventi.com/wp-content/uploads/2025/
 03/Locandina-Delia-Scala.jpeg
CATEGORIES:Musica, Spettacoli e Danza nel Lazio
LOCATION:Bracciano\, Comune di Bracciano\, Bracciano\, Roma\, Lazio\, Itali
 a
GEO:42.1036;12.1756
X-APPLE-STRUCTURED-LOCATION;VALUE=URI;X-ADDRESS=Comune di Bracciano\, Bracc
 iano\, Roma\, Lazio\, Italia;X-APPLE-RADIUS=100;X-TITLE=Bracciano:geo:42.1
 036,12.1756
END:VEVENT
BEGIN:VTIMEZONE
TZID:Europe/Rome
X-LIC-LOCATION:Europe/Rome
BEGIN:DAYLIGHT
DTSTART:20250330T030000
TZOFFSETFROM:+0100
TZOFFSETTO:+0200
TZNAME:CEST
END:DAYLIGHT
END:VTIMEZONE
END:VCALENDAR