BEGIN:VCALENDAR
VERSION:2.0
PRODID:-//wp-events-plugin.com//7.2.3.1//EN
TZID:Europe/Rome
X-WR-TIMEZONE:Europe/Rome
BEGIN:VEVENT
UID:37605@lazioeventi.com
DTSTART;TZID=Europe/Rome:20231107T110000
DTEND;TZID=Europe/Rome:20231107T123000
DTSTAMP:20231030T142238Z
URL:https://lazioeventi.com/eventi/il-diario-di-eva
SUMMARY:Il diario di Eva - Roma - 7 Novembre 23 11:00
DESCRIPTION:Lo spettacolo “Il diario di Eva”\, un progetto originale IU
 C\, prende la sua linfa dal celeberrimo romanzo breve di Mark Twain. Eva\,
  prima donna del Creato\, indaga il mondo con una curiosità genuina\, sco
 prendo di giorno in giorno nuovi animali\, nuove parole\, nuove emozioni\,
  fino a incontrare Adamo\, “l’esperimento divino” che rivoluzionerà
  il suo intero cosmo. La raffinata ironia di Twain\, autore caro alla attr
 ice e drammaturga Emilia Agnesa\, si rivela nella musica della compositric
 e Silvia D’Augello\, e si libra nelle capacità canore di Sabrina Cortes
 e. Tre donne sul palco\, che rappresentano i tre modi di intendere e racco
 ntarsi di Eva: la voce razionale della scoperta\, il canto dei sentimenti 
 e la musica scaturita dalla bellezza della novità. Uno spettacolo che coi
 nvolge con la sua atmosfera sospesa nel tempo\, le sue note evocative e le
  sue parole umane\, umanissime. Un personaggio immortale\, che nella ostin
 ata ricerca di un perché\, rivela la poesia nascosta dentro di sé e\, di
  riflesso\, dentro di noi.\n\nEmilia Agnesa voce recitante\nSabrina Cortes
 e soprano\nSilvia D’Augello pianoforte\n\nSelezione testuale e drammatur
 gia di Emilia Agnesa – Musica di Silvia D’Augello\nProgetto Originale 
 IUC\n\nBiglietti: 10€ \nUnder 30: 5€  \n\nGruppi scuole:\nStudenti und
 er 18 biglietto euro 3 – Professori accompagnatori biglietto omaggio
ATTACH;FMTTYPE=image/jpeg:https://lazioeventi.com/wp-content/uploads/2023/
 10/eva.png
CATEGORIES:Musica, Spettacoli e Danza nel Lazio
LOCATION:Roma\, Via Leopardi\, Roma\, Roma\, Lazio\, Italia
GEO:41.8942;12.5017
X-APPLE-STRUCTURED-LOCATION;VALUE=URI;X-ADDRESS=Via Leopardi\, Roma\, Roma\
 , Lazio\, Italia;X-APPLE-RADIUS=100;X-TITLE=Roma:geo:41.8942,12.5017
END:VEVENT
BEGIN:VTIMEZONE
TZID:Europe/Rome
X-LIC-LOCATION:Europe/Rome
BEGIN:STANDARD
DTSTART:20231029T020000
TZOFFSETFROM:+0200
TZOFFSETTO:+0100
TZNAME:CET
END:STANDARD
END:VTIMEZONE
END:VCALENDAR