BEGIN:VCALENDAR
VERSION:2.0
PRODID:-//wp-events-plugin.com//7.2.3.1//EN
TZID:Europe/Rome
X-WR-TIMEZONE:Europe/Rome
BEGIN:VEVENT
UID:32976@lazioeventi.com
DTSTART;TZID=Europe/Rome:20221112T100000
DTEND;TZID=Europe/Rome:20221113T190000
DTSTAMP:20221109T190036Z
URL:https://lazioeventi.com/eventi/il-fantastico-mondo-di-babbo-natale
SUMMARY:Il Fantastico Mondo di Babbo Natale - Roma - 12 Novembre 22 10:00
DESCRIPTION:Babbo Natale è già pronto per salire sulla slitta. Al Castell
 o di Lunghezza apre il Fantastico Mondo di Babbo Natale con tante sorprese
  e novità.\n\nDal 12 novembre 2022 ogni sabato e domenica\n\nC'è sempre 
 più bisogno di bontà in questo mondo\, per questo Babbo Natale ha deciso
  di dispensare sorrisi e gioia con un pò di anticipo per allietare il vol
 to dei bambini. La sua richiesta è stata  favorevolmente accolta dal Cas
 tello di Lunghezza che dal 12 novembre lo ospiterà nel villaggio del Fant
 astico Mondo di Babbo Natale\, un parco incantato popolato di fate\, elfi 
 giocattolai e pasticceri ma anche personaggi delle fiabe.\n\nAd accogliere
  i visitatori nel magico regno la splendida Fata delle Nevi\, pronta ad ap
 rire le porte della casa di Santa Claus\, con il salone dell’accoglienza
 \, la sala da pranzo\, la cosmica stanza da letto e lo studio dove legge l
 e migliaia di letterine scritte dai bambini e colme di desideri. Una volta
  varcata la soglia sarà proprio la sua segretaria ad accompagnare grandi 
 e piccini dal supereroe del Natale\, pronto a dare il benvenuto insieme ad
  una mostra speciale delle slitte che nei secoli ha utilizzato per i suoi 
 fantastici viaggi intorno al mondo. \n\nImpossibile poi non trovarsi di fr
 onte ai vari abitanti del villaggio: gli elfi postini alle prese con una v
 alanga di lettere da imbucare\, gli elfi giocattolai intenti a confezionar
 e doni speciali\, gli elfi pasticceri con i loro profumati ed invitanti do
 lci\, gli elfi volanti. \nIn questo dimensione fatata\, dove la fantasia p
 rende il sopravvento\, oltre al popolo degli elfi ecco anche i protagonist
 i delle fiabe\, principi e principesse\,  i personaggi dei cartoon e quel
 li simbolici del Natale\, come il pupazzo di neve\, gli orsi\, le renne ch
 e prendono vita insieme agli alberi amici della terra. Tra canzoni di Nata
 le\, eseguite dal vivo\, l'angolo del presepe e quello dedicato alla casa 
 del cioccolato\, anche tanti show e spettacoli imperdibili come i performe
 r del fuoco e la novità assoluta del duello tra il Grinch alleato con il 
 Babbo Natale Cattivo che tenteranno di attaccare quello Buono ma senza spe
 ranze\, poichè Santa Claus vincerà con la magia dello spirito natalizio 
 e insieme ai Supereroi presenti al Castello per un magico lieto fine. \n\n
 Info Telefono: 06 226 2880\n\nCastello di Lunghezza\, dal 12 novembre ogni
  sabato e domenica dalle 10 al tramonto
ATTACH;FMTTYPE=image/jpeg:https://lazioeventi.com/wp-content/uploads/2021/
 11/natale-lunghezza.jpg
CATEGORIES:Sport, Tempo Libero e Divertimento nel Lazio
LOCATION:Roma\, Via Leopardi\, Roma\, Roma\, Lazio\, Italia
GEO:41.8942;12.5017
X-APPLE-STRUCTURED-LOCATION;VALUE=URI;X-ADDRESS=Via Leopardi\, Roma\, Roma\
 , Lazio\, Italia;X-APPLE-RADIUS=100;X-TITLE=Roma:geo:41.8942,12.5017
END:VEVENT
BEGIN:VTIMEZONE
TZID:Europe/Rome
X-LIC-LOCATION:Europe/Rome
BEGIN:STANDARD
DTSTART:20221030T020000
TZOFFSETFROM:+0200
TZOFFSETTO:+0100
TZNAME:CET
END:STANDARD
END:VTIMEZONE
END:VCALENDAR