BEGIN:VCALENDAR
VERSION:2.0
PRODID:-//wp-events-plugin.com//7.2.3.1//EN
TZID:Europe/Rome
X-WR-TIMEZONE:Europe/Rome
BEGIN:VEVENT
UID:43171@lazioeventi.com
DTSTART:20251122T200000Z
DTEND:20251122T220000Z
DTSTAMP:20251121T113905Z
URL:https://lazioeventi.com/eventi/il-fuoco-che-ti-porti-dentro
SUMMARY:Il fuoco che ti porti dentro - Formia - 22 Novembre 25 21:00
DESCRIPTION:LIRICHE\, PERSONAGGI E VOCI DI RAFFAELE VIVIANI Dopo il success
 o dell’apertura e il sold out di abbonamenti\, il secondo spettacolo del
 la stagione “Senza Sipario” promossa dal Teatro Bertolt Brecht di Form
 ia in collaborazione con l’ATCL (Associ
ATTACH;FMTTYPE=image/jpeg:https://lazioeventi.com/wp-content/uploads/2025/
 11/senzaSipario.jpg
CATEGORIES:Musica, Spettacoli e Danza nel Lazio
LOCATION:Formia\, Comune\, Formia\, Latina\, Lazio\, Italia
GEO:41.2559;13.6059
X-APPLE-STRUCTURED-LOCATION;VALUE=URI;X-ADDRESS=Comune\, Formia\, Latina\, 
 Lazio\, Italia;X-APPLE-RADIUS=100;X-TITLE=Formia:geo:41.2559,13.6059
END:VEVENT
END:VCALENDAR