BEGIN:VCALENDAR
VERSION:2.0
PRODID:-//wp-events-plugin.com//7.2.3.1//EN
TZID:Europe/Rome
X-WR-TIMEZONE:Europe/Rome
BEGIN:VEVENT
UID:41794@lazioeventi.com
DTSTART;TZID=Europe/Rome:20250608T093000
DTEND;TZID=Europe/Rome:20250608T150000
DTSTAMP:20250605T154214Z
URL:https://lazioeventi.com/eventi/il-lago-di-martignano
SUMMARY:Il Lago di Martignano - Anguillara Sabazia - 8 Giugno 25 09:30
DESCRIPTION:Domenica 8 Giugno alle ore 09:30\, vi aspettiamo alla stazione 
 di Anguillara Sabazia  dove\, dopo la colazione\, partiremo alla scoperta
  dei laghi di Bracciano e Martignano. Un facile percorso ad anello articol
 ato tra strade bianche sentieri e distese erbose\, raggiungeremo il punto 
 panoramico dove in un colpo solo potremo ammirare i due laghi \, per poi s
 fiorare a riva quello di Martignano e rilassarci un poco.\nDifficoltà T D
 islivello 180 m Lunghezza Km 10 ad anello\n\nAPPUNTAMENTO h 9.30  nei pr
 essi della stazione fs di Anguillara Sabazia (il luogo esatto verrà comun
 icato agli iscritti)\nAltri appuntamenti ci saranno a Roma in base alle di
 sponibilità delle auto dei partecipanti… indicate la vostra.\nCosa port
 are: scarponcini da trekking\; utili i bastoncini\; vestirsi a strati\; ac
 qua a sufficienza\; pranzo al sacco\, il caffè e dolcetti li offriamo noi
  \n\nQUOTA SOCIALE:\nEscursione 15 € + Tessera Nomos Trek in corso di v
 alidità. Per i non tesserati inviare comunicazione via tel/sms etc. con i
  propri dati (nome\, cognome\, luogo e data di nascita e cf) entro le 18 d
 el giorno precedente l’escursione.\nAd ogni nuovo socio verrà rilasciat
 a la tessera fedeltà Nomos Trek. Dopo 9 escursioni che farete con noi la 
 10° sarà gratuita.\nIl solo “Parteciperò” messo all’evento non sa
 rà preso in considerazione se non si è poi contattata la guida.\n\nINFOR
 MAZIONI e PRENOTAZIONI: (preferibilmente whatsApp)\nMarco Di Nucci 338 31
 5 2734\nMarco Marini 3478247257 \n\nPer ricevere aggiornamenti sull’eve
 nto e vedere tutte le escursioni:\n1) Mettere “parteciperò”\n2) Mette
 re “mi piace” alla pagina Nomos Trek – Escursioni e Trekking e clicc
 are sul tasto “segui” – https://www.facebook.com/NomosTrek\n3) iscr
 iversi al gruppo pubblico Nomos Trek- Associazione Escursionistica –http
 s://www.facebook.com/groups/341852695915250\n4) Chat Telegram https://t.m
 e/+5JYvtRdqIH9jZDJk\n5) https://www.tiktok.com/@nomostrek\n6) https://ww
 w.instagram.com/nomostrekescursioni/?hl=it\n7) https://twitter.com/nomos_
 trek\n Visita il sito: www.nomostrek.com\n9)https://whatsapp.com/channel
 /0029VaD7W1hGZNCxYwLH5C1Y\n10) https://www.threads.net/@marco71marini\n11
 ) https://www.messenger.com/channel/NomosTrek\n12) https://t.me/nomostre
 kescursioni\nL’iniziativa è riservata ai soci in regola con l’iscrizi
 one relativa all’anno 2025 ed in possesso della relativa tessera. Le Gui
 de si riservano il diritto insindacabile di modificare il programma stabil
 ito in caso di condizioni meteorologiche avverse tali da rendere pericolos
 o l’itinerario\, in caso di impraticabilità di un sentiero\, in caso di
  impossibilità di un partecipante a continuare l’escursione per problem
 i fisici e/o psicologici.\nSi prega inoltre di avvertire gli accompagnator
 i della presenza di eventuali patologie\, o di problematiche che potrebber
 o manifestarsi nel corso dell’escursione\, grazie per la collaborazione
ATTACH;FMTTYPE=image/jpeg:https://lazioeventi.com/wp-content/uploads/2025/
 06/lago.jpg
CATEGORIES:Sport, Tempo Libero e Divertimento nel Lazio,Varie
LOCATION:Anguillara Sabazia\, Comune\, Anguillara Sabazia\, Roma\, Lazio\, 
 Italia
GEO:42.0929;12.2698
X-APPLE-STRUCTURED-LOCATION;VALUE=URI;X-ADDRESS=Comune\, Anguillara Sabazia
 \, Roma\, Lazio\, Italia;X-APPLE-RADIUS=100;X-TITLE=Anguillara Sabazia:geo
 :42.0929,12.2698
END:VEVENT
BEGIN:VTIMEZONE
TZID:Europe/Rome
X-LIC-LOCATION:Europe/Rome
BEGIN:DAYLIGHT
DTSTART:20250330T030000
TZOFFSETFROM:+0100
TZOFFSETTO:+0200
TZNAME:CEST
END:DAYLIGHT
END:VTIMEZONE
END:VCALENDAR