BEGIN:VCALENDAR
VERSION:2.0
PRODID:-//wp-events-plugin.com//7.2.3.1//EN
TZID:Europe/Rome
X-WR-TIMEZONE:Europe/Rome
BEGIN:VEVENT
UID:32887@lazioeventi.com
DTSTART;TZID=Europe/Rome:20221106T163000
DTEND;TZID=Europe/Rome:20221106T174500
DTSTAMP:20221031T144546Z
URL:https://lazioeventi.com/eventi/il-lupo-e-la-gallinella-il-gigante-e-la
 -strega
SUMMARY:Il lupo e la gallinella\, il gigante e la strega - Roma - 6 Novembr
 e 22 16:30
DESCRIPTION:Arriva da Vercelli il prossimo spettacolo in programma per la r
 assegna Infanzie e adolescenze in gioco 2022-23 a Centrale Preneste Teatro
  (Via Alberto da Giussano\, 58): domenica 6 novembre alle ore 16.30 la Bot
 tega Teatrale è in scena con "Il lupo e la gallinella\, il gigante e la s
 trega". Il testo e la regia sono di Giuseppe Cardascio\, sulla scena ci so
 no Salvatore Varvaro e Giuseppe Cardascio.\n\nSpettacolo con attori\, pupa
 zzi e ombre racconta l’eterna lotta tra il bene e il male\, il forte e i
 l debole. Ma qui prevale\, grazie all’ingegno\, il debole sul più forte
 . Una gallinella ha la meglio su un lupo un po’ distratto e indifeso che
  cerca di sopraffarla e di toglierle la sua casetta per darla alla strega 
 autrice di un incantesimo finito male. Il lupo infatti è inconsapevolment
 e diretto dalla strega e dal suo amico gigante. Ma alla fine il povero qua
 drupede e la sua povera mamma finiranno con prendere solamente tante scopa
 te dalla strega per essere stati incapaci di depredare la casa dell'operos
 a gallinella.\n\nIl trailer:\n\nhttps://youtu.be/ZelLpr6tKeg\n\nAdatto dai
  2 ai 10 anni. Il costo del biglietto è per tutti di 6 euro.\n\nAcquisto 
 esclusivamente on-line su www.centraleprenesteteatro.it/calendario-eventi 
 o in biglietteria il giorno dello spettacolo dalle ore 16.00 previa dispon
 ibilità dei posti.\n\nPrenotazione obbligatoria\n\nPrenotazioni: acquisto
  on-line su www.centraleprenesteteatro.it/calendario-eventi o in bigliette
 ria il giorno dello spettacolo dalle ore 16.00 previa disponibilità dei p
 osti.\n\nPagina Facebook: www.facebook.com/CentralePrenesteTeatro
ATTACH;FMTTYPE=image/jpeg:https://lazioeventi.com/wp-content/uploads/2022/
 10/Bottega-Teatrale.jpg
CATEGORIES:Musica, Spettacoli e Danza nel Lazio
LOCATION:Roma\, Via Leopardi\, Roma\, Roma\, Lazio\, Italia
GEO:41.8942;12.5017
X-APPLE-STRUCTURED-LOCATION;VALUE=URI;X-ADDRESS=Via Leopardi\, Roma\, Roma\
 , Lazio\, Italia;X-APPLE-RADIUS=100;X-TITLE=Roma:geo:41.8942,12.5017
END:VEVENT
BEGIN:VTIMEZONE
TZID:Europe/Rome
X-LIC-LOCATION:Europe/Rome
BEGIN:STANDARD
DTSTART:20221030T020000
TZOFFSETFROM:+0200
TZOFFSETTO:+0100
TZNAME:CET
END:STANDARD
END:VTIMEZONE
END:VCALENDAR