BEGIN:VCALENDAR
VERSION:2.0
PRODID:-//wp-events-plugin.com//7.2.3.1//EN
TZID:Europe/Rome
X-WR-TIMEZONE:Europe/Rome
BEGIN:VEVENT
UID:27309@lazioeventi.com
DTSTART;TZID=Europe/Rome:20200906T083000
DTEND;TZID=Europe/Rome:20200906T170000
DTSTAMP:20200817T103534Z
URL:https://lazioeventi.com/eventi/il-mare-visto-dalla-montagna-escursione
 -per-famiglie-con-bambini
SUMMARY:Il mare visto dalla montagna\, escursione per famiglie con bambini 
 - Formia - 6 Settembre 20 08:30
DESCRIPTION:Primo appuntamento con la proposta del Family CAI di Esperia al
 le famiglie con bimbi tra i 4 e 12 anni per scoprire insieme le emozioni d
 ella montagna\, con un programma di escursioni domenicali a cadenza mensil
 e. L’esordio avverrà in uno dei luogh
ATTACH;FMTTYPE=image/jpeg:https://lazioeventi.com/wp-content/uploads/2020/
 08/Escursione-CaiFamily-6.9.2020_l.png
CATEGORIES:Sport, Tempo Libero e Divertimento nel Lazio
LOCATION:Formia\, Comune\, Formia\, Latina\, Lazio\, Italia
GEO:41.2559;13.6059
X-APPLE-STRUCTURED-LOCATION;VALUE=URI;X-ADDRESS=Comune\, Formia\, Latina\, 
 Lazio\, Italia;X-APPLE-RADIUS=100;X-TITLE=Formia:geo:41.2559,13.6059
END:VEVENT
BEGIN:VTIMEZONE
TZID:Europe/Rome
X-LIC-LOCATION:Europe/Rome
BEGIN:DAYLIGHT
DTSTART:20200329T030000
TZOFFSETFROM:+0100
TZOFFSETTO:+0200
TZNAME:CEST
END:DAYLIGHT
END:VTIMEZONE
END:VCALENDAR