BEGIN:VCALENDAR
VERSION:2.0
PRODID:-//wp-events-plugin.com//7.2.3.1//EN
TZID:Europe/Rome
X-WR-TIMEZONE:Europe/Rome
BEGIN:VEVENT
UID:31060@lazioeventi.com
DTSTART;TZID=Europe/Rome:20220529T190000
DTEND;TZID=Europe/Rome:20220529T210000
DTSTAMP:20220523T152330Z
URL:https://lazioeventi.com/eventi/il-medioevo-di-roma
SUMMARY:Il Medioevo di Roma - Roma - 29 Maggio 22 19:00
DESCRIPTION:Visite Teatralizzate\n\nA Trastevere\, affascinante cuore medie
 vale di Roma\, ritornano in vita tutti i protagonisti della storia che\, d
 al 1100 al 1300 hanno caratterizzato l’Italia. Un periodo storico che gu
 ida e attori faranno rivivere intensamente tra i vicoli e gli angoli più 
 suggestivi di Trastevere.\nRiappariranno Dante Alighieri\, San Francesco\,
  Innocenzo III\, Bonifacio VIII\, Sciarra Colonna\, Cola di Rienzo e anche
  il grande assente a Roma ovvero il re Federico II. Grandi personaggi e st
 orie straordinarie che si avvicenderanno\, rendendo sempre più unico il m
 ondo originale delle visite guidate con teatro itinerante dove vi facciamo
  conoscere la storia e i suoi personaggi in carne ed ossa scegliendo quest
 a volta una cornice unica nel suo genere: Trastevere.\n\nAppuntamento 15 m
 inuti prima dell’inizio:\nPiazza San Cosimato 76 (davanti ingresso secon
 dario ospedale)\nConclusione:\ndavanti Chiesa di San Crisogono\nDurata:\n2
  ore circa\n\nQuota di partecipazione:\n16€ ridotto convenzionati\, WeKa
 rd\n18€ intero\n10€ under 18\n2€ under 10\n\nModalità di pagamento:
 \nAnticipato. Online con carta di credito o ricaricabile o tramite bonific
 o bancario\n\nLa quota include:\nvisita guidata teatralizzata a cura di gu
 ida e attori\n\nDiv.abili:\nassenza di barriere architettoniche\n\nPRENOTA
 ZIONE OBBLIGATORIA:\ncompilando il modulo di prenotazione o telefonando ad
  uno dei seguenti numeri\n334/3006636 – 0651963729
ATTACH;FMTTYPE=image/jpeg:https://lazioeventi.com/wp-content/uploads/2022/
 05/medioevo-rom.jpg
CATEGORIES:Arte e Cultura nel Lazio
LOCATION:Roma\, Via Leopardi\, Roma\, Roma\, Lazio\, Italia
GEO:41.8942;12.5017
X-APPLE-STRUCTURED-LOCATION;VALUE=URI;X-ADDRESS=Via Leopardi\, Roma\, Roma\
 , Lazio\, Italia;X-APPLE-RADIUS=100;X-TITLE=Roma:geo:41.8942,12.5017
END:VEVENT
BEGIN:VTIMEZONE
TZID:Europe/Rome
X-LIC-LOCATION:Europe/Rome
BEGIN:DAYLIGHT
DTSTART:20220327T030000
TZOFFSETFROM:+0100
TZOFFSETTO:+0200
TZNAME:CEST
END:DAYLIGHT
END:VTIMEZONE
END:VCALENDAR