BEGIN:VCALENDAR
VERSION:2.0
PRODID:-//wp-events-plugin.com//7.2.3.1//EN
TZID:Europe/Rome
X-WR-TIMEZONE:Europe/Rome
BEGIN:VEVENT
UID:31495@lazioeventi.com
DTSTART;TZID=Europe/Rome:20220703T190000
DTEND;TZID=Europe/Rome:20220703T234500
DTSTAMP:20220625T145549Z
URL:https://lazioeventi.com/eventi/il-metal-di-the-old-skull
SUMMARY:Il metal di The Old Skull - Roma - 3 Luglio 22 19:00
DESCRIPTION:The Old Skull\, la band metal romana che coinvolge abitualmente
  artisti della scena Hip-Hop nazionale\, torna dal vivo a due anni dal pri
 mo album “Fantasmi\, Ruggine e Rumore”.\n\nLuca Martino (batteria)\, F
 rancesco Persia (chitarra)\, Emanuele Calvelli (basso) e Alex Merola (chit
 arra)\, assieme a DJ Snifta si esibiranno in vari set coinvolgendo diverse
  realtà romane con cui hanno già collaborato e con cui condividono una v
 isione artistica che unisce rap e metal.\n\nSulle strumentali sature e dis
 torte si alterneranno quindi le rime di Chef Ragoo\, Panz\, Romanderground
  (Prisma e Mister T)\, Suarez\, White Boy e William Pascal\, in un live da
 l sapore crossover.\n\nSempre sulla base di The Old Skull\, gli MC si esib
 iranno a rotazione con momenti collettivi a più voci\, e anche il superse
 t finale dove tutti gli ospiti si esibiranno assieme per concludere lo sho
 w. Un equilibrio dove convivono rime\, scratch\, chitarre distorte e ritmi
 che serrate\, con la consapevolezza e il rispetto reciproco verso i due ge
 neri musicali.\n\nAd impreziosire la serata un ospite a sorpresa che si es
 ibirà sul palco assieme ai musicisti e agli MC\, dalle ore 19 DJ set con 
 le migliori selezioni del momento.\n\n&nbsp\;\n\nDomenica 3 luglio\n\nOre 
 21\n\nSnodo\n\nVia Del Mandrione\, 63 - Roma\n\nIngresso Euro 10\n\nInfoli
 ne 3276744460
ATTACH;FMTTYPE=image/jpeg:https://lazioeventi.com/wp-content/uploads/2022/
 06/The-Old-Skull-2.jpg
CATEGORIES:Musica, Spettacoli e Danza nel Lazio
LOCATION:Roma\, Via Leopardi\, Roma\, Roma\, Lazio\, Italia
GEO:41.8942;12.5017
X-APPLE-STRUCTURED-LOCATION;VALUE=URI;X-ADDRESS=Via Leopardi\, Roma\, Roma\
 , Lazio\, Italia;X-APPLE-RADIUS=100;X-TITLE=Roma:geo:41.8942,12.5017
END:VEVENT
BEGIN:VTIMEZONE
TZID:Europe/Rome
X-LIC-LOCATION:Europe/Rome
BEGIN:DAYLIGHT
DTSTART:20220327T030000
TZOFFSETFROM:+0100
TZOFFSETTO:+0200
TZNAME:CEST
END:DAYLIGHT
END:VTIMEZONE
END:VCALENDAR