BEGIN:VCALENDAR
VERSION:2.0
PRODID:-//wp-events-plugin.com//7.2.3.1//EN
TZID:Europe/Rome
X-WR-TIMEZONE:Europe/Rome
BEGIN:VEVENT
UID:37003@lazioeventi.com
DTSTART;TZID=Europe/Rome:20230924T091500
DTEND;TZID=Europe/Rome:20230924T160000
DTSTAMP:20230911T195304Z
URL:https://lazioeventi.com/eventi/il-monte-crepacuore-con-nomos-trek
SUMMARY:Il monte Crepacuore con Nomos Trek - Guarcino - 24 Settembre 23 09:
 15
DESCRIPTION:La porta degli ernici\, quasi 2000 metri ed un panorama a 360°
 . Un trek da non perdere. Partiremo dalla stazione sciistica di Campo Cat
 ino e dopo un serie di saliscendi faremo tappa intermedia presso la fonte 
 del Pozzotello\, caratterizzata dalle sue fresche acque che sgorgano dall
 a sorgente. Un tratto super panoramico ci condurrà fin sulla vetta a 1997
  metri. Al ritorno faremo un piccolo anello wild percorrendo il sentiero d
 ei fiori passando sotto le parete del Peschio della Cornacchia. Il percor
 so del Crepacuore è oggi anche un tratto della Via dei Lupi con la tappa
  Trevi nel Lazio- Morino. Non mancate il 3° tempo con i prodotti locali d
 el prosciuttificio Erzinio di Guarcino \nkm 12 Dislivello 500 metri\n\nCO
 SA PORTARE: scarpe da trekking con suola antiscivolo\; bastoncini telescop
 ici\; pranzo al sacco\; acqua a sufficienza (almeno 1lt).. il caffè e il 
 dolce lo offriamo noi.\n\nAPPUNTAMENTO a Guarcino bar Campetelli h 9.15 (
  https://goo.gl/maps/Eytd5Esdyohk7Y1e8) dopo la sosta bar ci sposteremo a
  campo Catino da dove inizieremo a camminare\n\nQUOTA SOCIALE:\n 15€ + 
 Tessera Nomos Trek 2023 in corso di validità\nPer i non tesserati inviare
  comunicazione via tel/sms etc. con i propri dati (nome/cognome\, luogo e 
 data di nascita e cf) entro le 18 del giorno precedente l'escursione\nIl s
 olo "Parteciperò" messo all'evento non sarà preso in considerazione se n
 on si è poi contattata la guida.\n\nINFORMAZIONI e PRENOTAZIONI: (preferi
 bilmente whatsapp)\nMarco Marini Cell 3478247257\nGuida ambientale escursi
 onistica\nPer ricevere aggiornamenti sull'evento e vedere tutte le escursi
 oni:\n1) Mettere "parteciperò"\n2) Mettere “mi piace” alla pagina Nom
 os Trek - Escursioni e Trekking e cliccare sul tasto “segui” - https:
 //www.facebook.com/NomosTrek\n3) iscriversi al gruppo pubblico Nomos Trek-
  Associazione Escursionistica -https://www.facebook.com/groups/34185269591
 5250\n4) Chat Telegram https://t.me/+5JYvtRdqIH9jZDJk\n5) https://www.ti
 ktok.com/@nomostrek\n6) https://www.instagram.com/nomostrekescursioni/?hl
 =it\n7) https://twitter.com/nomos_trek\n Visita il sito: www.nomostrek.
 com\n\nL’iniziativa è riservata ai soci in regola con l’iscrizione re
 lativa all’anno 2023 ed in possesso della relativa tessera. Le Guide si 
 riservano il diritto insindacabile di modificare il programma stabilito in
  caso di condizioni meteorologiche avverse tali da rendere pericoloso l’
 itinerario\, in caso di impraticabilità di un sentiero\, in caso di impos
 sibilità di un partecipante a continuare l’escursione.
ATTACH;FMTTYPE=image/jpeg:https://lazioeventi.com/wp-content/uploads/2023/
 09/IMG_4054.jpg
CATEGORIES:Sport, Tempo Libero e Divertimento nel Lazio
LOCATION:Guarcino\, Comune\, Guarcino\, Frosinone\, Lazio\, Italia
GEO:41.7997;13.314
X-APPLE-STRUCTURED-LOCATION;VALUE=URI;X-ADDRESS=Comune\, Guarcino\, Frosino
 ne\, Lazio\, Italia;X-APPLE-RADIUS=100;X-TITLE=Guarcino:geo:41.7997,13.314
END:VEVENT
BEGIN:VTIMEZONE
TZID:Europe/Rome
X-LIC-LOCATION:Europe/Rome
BEGIN:DAYLIGHT
DTSTART:20230326T030000
TZOFFSETFROM:+0100
TZOFFSETTO:+0200
TZNAME:CEST
END:DAYLIGHT
END:VTIMEZONE
END:VCALENDAR