BEGIN:VCALENDAR
VERSION:2.0
PRODID:-//wp-events-plugin.com//7.2.3.1//EN
TZID:Europe/Rome
X-WR-TIMEZONE:Europe/Rome
BEGIN:VEVENT
UID:37188@lazioeventi.com
DTSTART;TZID=Europe/Rome:20231111T173000
DTEND;TZID=Europe/Rome:20231112T193000
DTSTAMP:20230924T175945Z
URL:https://lazioeventi.com/eventi/il-palazzo-in-musica
SUMMARY:Il Palazzo in Musica - Cisterna di Latina - 11 Novembre 23 17:30
DESCRIPTION:“Il Palazzo in Musica”\nRassegna di concerti con pianoforte
  storico restaurato Collard and Collard del 1889\n\nSabato 11 Novembre ore
  17:30\n“Tra serio e faceto” Duo pianistico Licchetta – Sequestro\nA
 lessandro Licchetta\, pianoforte\nAndrea Sequestro\, pianoforte\nWolfgang 
 Amadeus Mozart Sonata in re maggiore K381\nBedřich Smetana  Moldava\nGabr
 iel Fauré Dolly\nGiuseppe Verdi Ouverture de La Forza del Destino\nGioacc
 hino Rossini Ouverture da “Il Barbiere di Siviglia” e “Guglielmo Tel
 l\n\nDomenica 12 Novembre ore 17:30\n“Un viaggio in Europa” Musiche di
  compositori di\nScozia\, Inghilterra\, Irlanda\, Lituania\, Italia\, Fran
 cia\, Spagna\, Serbia\nAntonello Timpani\, clarinetto\nAntonio D’Antò\,
  pianoforte\nVerdi-Lovreglio  Fantasia da Concerto su motivi de ‘La Trav
 iata’\nAntonio D’Antò  Petite Suite (variazioni a la maniere de sull
 ’ Aria di Musetta)\nA. Brazinskas  (Lituania): Serenata\nPaul Lewis  (UK
 ) Serenata popolare\nPancho Vladigerov  (Bulgaria): Chanson\nCarlos Guasta
 vino  (Argentina): Tonada y cueca\nPaquito D’Riveira (Cuba): Tre pezzi\n
 \nIngresso 5 euro\nPrenotazioni: tel. e whatsapp 371.1508883 - colleionci@
 gmail.com
ATTACH;FMTTYPE=image/jpeg:https://lazioeventi.com/wp-content/uploads/2023/
 09/concerti-palazzo-musica.jpg
CATEGORIES:Musica, Spettacoli e Danza nel Lazio
LOCATION:Cisterna di Latina\, Comune di Cisterna di Latina\, Cisterna di La
 tina\, Latina\, Lazio\, Italia
GEO:41.5927;12.8286
X-APPLE-STRUCTURED-LOCATION;VALUE=URI;X-ADDRESS=Comune di Cisterna di Latin
 a\, Cisterna di Latina\, Latina\, Lazio\, Italia;X-APPLE-RADIUS=100;X-TITL
 E=Cisterna di Latina:geo:41.5927,12.8286
END:VEVENT
BEGIN:VTIMEZONE
TZID:Europe/Rome
X-LIC-LOCATION:Europe/Rome
BEGIN:STANDARD
DTSTART:20231029T020000
TZOFFSETFROM:+0200
TZOFFSETTO:+0100
TZNAME:CET
END:STANDARD
END:VTIMEZONE
END:VCALENDAR