BEGIN:VCALENDAR
VERSION:2.0
PRODID:-//wp-events-plugin.com//7.2.3.1//EN
TZID:Europe/Rome
X-WR-TIMEZONE:Europe/Rome
BEGIN:VEVENT
UID:25964@lazioeventi.com
DTSTART:20250117T110000Z
DTEND:20250117T143000Z
DTSTAMP:20250117T092910Z
URL:https://lazioeventi.com/eventi/il-pappone-di-civita
SUMMARY:Il pappone di Civita - Arpino - 17 Gennaio 25 12:00
DESCRIPTION:La storia narra che il Cavaliere arpinate Pompeo Grimaldi donò
  parte dei suoi averi alla chiesa\, affinché questa si occupasse di provv
 edere alla dote delle ragazze più povere di Arpino: le “fortunate” do
 nzelle venivano scelte proprio nel giorno della festa di Sant’Antonio Ab
 ate\, il 17 gennaio.\n\nCon il passare del tempo la “Confraternita del S
 antissimo e della Concezione” modificò tale consuetudine scegliendo di 
 condividere un piatto di polenta calda con i meno abbienti. Questa usanza\
 , dopo oltre 400 anni\, si è tramandata fino ai giorni nostri.\n\nIl “p
 appone” viene preparato in paioli di rame\, le cosiddette “cuttrelle
 ”.\n\nDopo la Santa Messa delle 11:00 il parroco impartisce la benedizio
 ne e si procede alla distribuzione della polenta\, rigorosamente condita c
 on sugo e pecorino grattugiato.\n\nUn appuntamento che diventa occasione d
 i ritrovo e condivisione per tutta la comunità.
ATTACH;FMTTYPE=image/jpeg:https://lazioeventi.com/wp-content/uploads/2020/
 01/pappone.jpg
CATEGORIES:Sagre, Gastronomia e Tradizioni nel Lazio
LOCATION:Arpino\, Comune di Arpino\, Arpino\, Frosinone\, Lazio\, Italia
GEO:41.648;13.6106
X-APPLE-STRUCTURED-LOCATION;VALUE=URI;X-ADDRESS=Comune di Arpino\, Arpino\,
  Frosinone\, Lazio\, Italia;X-APPLE-RADIUS=100;X-TITLE=Arpino:geo:41.648,1
 3.6106
END:VEVENT
END:VCALENDAR