BEGIN:VCALENDAR
VERSION:2.0
PRODID:-//wp-events-plugin.com//7.2.3.1//EN
TZID:Europe/Rome
X-WR-TIMEZONE:Europe/Rome
BEGIN:VEVENT
UID:27669@lazioeventi.com
DTSTART;TZID=Europe/Rome:20200913T210000
DTEND;TZID=Europe/Rome:20200913T223000
DTSTAMP:20200911T145853Z
URL:https://lazioeventi.com/eventi/il-piffero-magico
SUMMARY:Il Piffero Magico - Roccasecca - 13 Settembre 20 21:00
DESCRIPTION:Sabato 13 Settembre 2020 a Roccasecca nel centro storico alle 
 ore 21.00 appuntamento con il Concerto che l’ Associazione MBL ha ideato
  per premiare la straordinaria carriera del musicista Gianni Perilli. Cons
 egnerà il premio l'artista Tony Espos
ATTACH;FMTTYPE=image/jpeg:https://lazioeventi.com/wp-content/uploads/2020/
 09/mbl_piffero2020_ok.jpg
CATEGORIES:Musica, Spettacoli e Danza nel Lazio
LOCATION:Roccasecca\, Via Severino\, Roccasecca\, Frosinone\, Lazio\, Itali
 a
GEO:41.5537;13.6683
X-APPLE-STRUCTURED-LOCATION;VALUE=URI;X-ADDRESS=Via Severino\, Roccasecca\,
  Frosinone\, Lazio\, Italia;X-APPLE-RADIUS=100;X-TITLE=Roccasecca:geo:41.5
 537,13.6683
END:VEVENT
BEGIN:VTIMEZONE
TZID:Europe/Rome
X-LIC-LOCATION:Europe/Rome
BEGIN:DAYLIGHT
DTSTART:20200329T030000
TZOFFSETFROM:+0100
TZOFFSETTO:+0200
TZNAME:CEST
END:DAYLIGHT
END:VTIMEZONE
END:VCALENDAR