BEGIN:VCALENDAR
VERSION:2.0
PRODID:-//wp-events-plugin.com//7.2.3.1//EN
TZID:Europe/Rome
X-WR-TIMEZONE:Europe/Rome
BEGIN:VEVENT
UID:38549@lazioeventi.com
DTSTART;TZID=Europe/Rome:20240218T163000
DTEND;TZID=Europe/Rome:20240218T174500
DTSTAMP:20240215T200359Z
URL:https://lazioeventi.com/eventi/il-principe-delle-tenebre-3
SUMMARY:Il Principe delle tenebre - Roma - 18 Febbraio 24 16:30
DESCRIPTION:Per la rassegna “Infanzie in gioco 2023-24” a Centrale Pren
 este Teatro (Via Alberto da Giussano\, 58) domenica 18 febbraio alle ore 1
 6.30 va in scena lo spettacolo "Il Principe delle tenebre" della Compagnia
  Ruotalibera Teatro. Il testo è di Fabio Traversa\, la regia è di Tizian
 a Lucattini\, sul palco ci sono Valentina Greco\, Tiziana Lucattini e Fabi
 o Traversa.\n\nIspirato alla fiaba popolare “Naso d’Argento” e alle 
 atmosfere misteriose di Nosferatu\, capolavoro di Friedrich Wilhelm Murnau
  del 1922\, lo spettacolo accoglie le suggestioni espressioniste del cinem
 a tedesco nel bianco e nero di scene e costumi\, nel disegno dalle linee d
 istorte\, nelle luci contrastate\, nelle didascalie da cinema muto. Con ri
 mandi al Frankenstein Junior di Mel Brooks e a una certa leggerezza da com
 media dell’arte\, nel lavoro è implicito il tema dell’affrancamento f
 emminile dal potere maschile. Un distinto e ricco signore\, anemico e solo
 \, con uno strano naso d'argento\, attira nel suo castello tre giovani fig
 lie di una povera lavandaia che lo seguono\, una dopo l’altra\, col mira
 ggio di cambiar vita. Ma Lucia\, la minore e la più avveduta delle tre\, 
 farà prendere alla storia una piega imprevista. Adatto dai 6 anni. Il cos
 to del biglietto è per tutti di 7 euro.\n\nAcquisto esclusivamente on-lin
 e su www.centraleprenesteteatro.it/calendario-eventi o in biglietteria il 
 giorno dello spettacolo dalle ore 16.00 previa disponibilità dei posti.
ATTACH;FMTTYPE=image/jpeg:https://lazioeventi.com/wp-content/uploads/2024/
 02/IL-PRINCIPE-DELLE-TENEBRE-foto-Federica-Di-Benedetto1.jpg
CATEGORIES:Musica, Spettacoli e Danza nel Lazio
LOCATION:Roma\, Via Leopardi\, Roma\, Roma\, Lazio\, Italia
GEO:41.8942;12.5017
X-APPLE-STRUCTURED-LOCATION;VALUE=URI;X-ADDRESS=Via Leopardi\, Roma\, Roma\
 , Lazio\, Italia;X-APPLE-RADIUS=100;X-TITLE=Roma:geo:41.8942,12.5017
END:VEVENT
BEGIN:VTIMEZONE
TZID:Europe/Rome
X-LIC-LOCATION:Europe/Rome
BEGIN:STANDARD
DTSTART:20231029T020000
TZOFFSETFROM:+0200
TZOFFSETTO:+0100
TZNAME:CET
END:STANDARD
END:VTIMEZONE
END:VCALENDAR