BEGIN:VCALENDAR
VERSION:2.0
PRODID:-//wp-events-plugin.com//7.2.3.1//EN
TZID:Europe/Rome
X-WR-TIMEZONE:Europe/Rome
BEGIN:VEVENT
UID:35010@lazioeventi.com
DTSTART;TZID=Europe/Rome:20230416T150000
DTEND;TZID=Europe/Rome:20230416T170000
DTSTAMP:20230411T055236Z
URL:https://lazioeventi.com/eventi/il-priorato-dei-cavalieri-di-malta-alla
 ventino-6
SUMMARY:Il Priorato dei Cavalieri di Malta all’Aventino - Roma - 16 April
 e 23 15:00
DESCRIPTION:Il Priorato dei Cavalieri di Malta all’Aventino\n\nEccezional
 mente aperto di domenica pomeriggio\n\nApertura Straordinaria del Gran Pri
 orato di Malta a numero chiuso da prenotare in anticipo entro Mercoledì 1
 2 Aprile\n\nLa Villa\, oggi sede del Gran Priorato di Roma\, è anche la s
 ede dell’Ambasciata del Sovrano Ordine presso la Repubblica italiana. Qu
 i all’inizio del XIV secolo si insediarono gli Ospedalieri di San Giovan
 ni\, conosciuti successivamente come Cavalieri di Rodi e poi di Malta.\nAm
 pliamenti e ristrutturazioni importanti sono stati realizzati dall’arch.
  Giovan Battista Piranesi\, per conto di papa Clemente XIII\, che realizza
  la chiesa di Santa Maria del Priorato adorna di stucchi e decorazioni sia
  all’interno che in facciata. Un magnifico giardino\, dal carattere esot
 ico\, nasconde lo stratagemma che ci permette di vedere la Cupola di San P
 ietro dalla serratura più famosa al mondo. Il risultato è un luogo roman
 tico pieno di fascino e storia.\n\nhttps://www.romanitas.it/calendario-vis
 ite-guidate/?event=2925\n\nSi prega di far riferimento alla Sezione Passeg
 giando nella storia https://www.romanitas.it/passeggiando-nella-storia/ pe
 r visionare il Regolamento associativo completo.\n\nINFORMAZIONI ORARI E T
 ARIFFE\n\nQuando: Domenica 16 Aprile 2023 h 15:15\n\nDurata: 2 ore circa\n
 \nAccoglienza: Piazza dei Cavalieri di Malta 3 a partire dalle 15:00\n\nTa
 riffa: €20\,00 incluso radio\n\nPer questa visita sono richiesti la pren
 otazione e il pagamento anticipato\, entro Mercoledì 12 aprile\, con una 
 mail a visiteguidate@romanitas.it  oppure con un sms/WA a Cristiana 331 5
 632913\n\nLa Prenotazione è necessaria per ricevere conferma o eventuali 
 variazioni.
ATTACH;FMTTYPE=image/jpeg:https://lazioeventi.com/wp-content/uploads/2023/
 04/220px-StPetersBasilica_Keyhole_pic-copia.jpg
CATEGORIES:Arte e Cultura nel Lazio
LOCATION:Roma\, Via Leopardi\, Roma\, Roma\, Lazio\, Italia
GEO:41.8942;12.5017
X-APPLE-STRUCTURED-LOCATION;VALUE=URI;X-ADDRESS=Via Leopardi\, Roma\, Roma\
 , Lazio\, Italia;X-APPLE-RADIUS=100;X-TITLE=Roma:geo:41.8942,12.5017
END:VEVENT
BEGIN:VTIMEZONE
TZID:Europe/Rome
X-LIC-LOCATION:Europe/Rome
BEGIN:DAYLIGHT
DTSTART:20230326T030000
TZOFFSETFROM:+0100
TZOFFSETTO:+0200
TZNAME:CEST
END:DAYLIGHT
END:VTIMEZONE
END:VCALENDAR