BEGIN:VCALENDAR
VERSION:2.0
PRODID:-//wp-events-plugin.com//7.2.3.1//EN
TZID:Europe/Rome
X-WR-TIMEZONE:Europe/Rome
BEGIN:VEVENT
UID:42966@lazioeventi.com
DTSTART;TZID=Europe/Rome:20251115T170000
DTEND;TZID=Europe/Rome:20251115T183000
DTSTAMP:20251114T085731Z
URL:https://lazioeventi.com/eventi/il-profumo-delle-emozioni-la-naturopati
 a-incontra-la-psicologia
SUMMARY:Il profumo delle emozioni: la naturopatia incontra la psicologia - 
 Tarquinia - 15 Novembre 25 17:00
DESCRIPTION:Prosegue il ciclo informativo “Pillole di Psicologia”\, ded
 icato alla profonda connessione tra mente e corpo. Il secondo evento si te
 rrà sabato 15 novembre 2025\, alle 17\, nella suggestiva sala Sacchetti\,
  di via dell’Archetto 4\, nel centro storico di Tarquinia. \n\nL’incon
 tro\, intitolato “Il profumo delle emozioni: la naturopatia incontra la 
 psicologia”\, proporrà un affascinante viaggio alla scoperta delle dina
 miche profonde del cervello e delle connessioni sensoriali che legano emoz
 ioni\, memoria e percezioni olfattive. A condurre l’appuntamento sarà l
 a dottoressa Claudia Rossetti\, psicologa e psicoterapeuta familiare\, aff
 iancata dalla naturopata Roberta Di Rocco. Le relatrici guideranno il pubb
 lico nell’esplorazione di come odori e profumi possano attivare le stess
 e aree cerebrali che controllano e orientano le nostre emozioni\, influenz
 ando in modo sottile ma profondo il benessere psicofisico. \n\nL’iniziat
 iva offrirà l’occasione per riflettere in che modo mente e corpo dialog
 hino costantemente e su come un semplice profumo possa risvegliare ricordi
 \, stati d’animo ed emozioni\, rivelando la stretta relazione tra percez
 ione sensoriale ed esperienza interiore. Il ciclo “Pillole di Psicologia
 ” è promosso in collaborazione con la Società Tarquiniense d’Arte e 
 Storia (Stas) e gode del patrocinio del Comune di Tarquinia e del Lions Cl
 ub Tarquinia. \n\nIl 22 novembre\, nell’ambito delle iniziative inserite
  nella Giornata internazionale per l'eliminazione della violenza contro le
  donne\, si terrà nella sala consiliare del palazzo comunale il convegno 
 “Violenza di genere: il Codice Rosso tra tutela delle vittime\, giustizi
 a efficace e supporto psicologico”\, con la partecipazione dell’avvoca
 to Paolo Pirani\, dell’ingegnere Paolo Reale\, esperto di informatica fo
 rense\, e della dottoressa Marina Baldi\, genetista Forense.\n\nIl ciclo p
 roseguirà il 6 dicembre con “Psicologia allo specchio: autostima e perc
 ezione di sé in chirurgia estetica”\, insieme al dermochirurgo Paolo Sb
 ano\, per poi concludersi il 13 dicembre con “Il respiro delle cellule\,
  la luce della mente: le terapie bio-rigenerative e l’ozonoterapia per i
 l benessere psico-fisico dell’individuo”\, a cura della della medica o
 ncologa e ozonoterapeuta Rita Brandi.\n\nTutti gli incontri sono a ingress
 o libero e rappresentano un’occasione preziosa per avvicinarsi alla psic
 ologia in modo semplice e diretto\, attraverso il dialogo tra discipline e
  il contatto umano tra esperti e cittadini. “Pillole di Psicologia” si
  conferma un appuntamento ormai consolidato nel panorama culturale tarquin
 iese\, un punto d’incontro tra scienza\, esperienza e partecipazione\, d
 ove la conoscenza diventa strumento di benessere e crescita personale.
ATTACH;FMTTYPE=image/jpeg:https://lazioeventi.com/wp-content/uploads/2024/
 11/Locandina-Pillole-di-Psicologia.jpg
CATEGORIES:Arte e Cultura nel Lazio
LOCATION:Tarquinia\, Comune\, Tarquinia\, Viterbo\, Lazio\, Italia
GEO:42.2546;11.7584
X-APPLE-STRUCTURED-LOCATION;VALUE=URI;X-ADDRESS=Comune\, Tarquinia\, Viterb
 o\, Lazio\, Italia;X-APPLE-RADIUS=100;X-TITLE=Tarquinia:geo:42.2546,11.758
 4
END:VEVENT
BEGIN:VTIMEZONE
TZID:Europe/Rome
X-LIC-LOCATION:Europe/Rome
BEGIN:STANDARD
DTSTART:20251026T020000
TZOFFSETFROM:+0200
TZOFFSETTO:+0100
TZNAME:CET
END:STANDARD
END:VTIMEZONE
END:VCALENDAR