BEGIN:VCALENDAR
VERSION:2.0
PRODID:-//wp-events-plugin.com//7.2.3.1//EN
TZID:Europe/Rome
X-WR-TIMEZONE:Europe/Rome
BEGIN:VEVENT
UID:43282@lazioeventi.com
DTSTART;TZID=Europe/Rome:20251207T183000
DTEND;TZID=Europe/Rome:20251207T200000
DTSTAMP:20251203T213306Z
URL:https://lazioeventi.com/eventi/il-quartetto-guadagnini-con-shostakovic
 h-e-ravel
SUMMARY:Il Quartetto Guadagnini con Shostakovich e Ravel - Ariccia - 7 Dice
 mbre 25 18:30
DESCRIPTION:Domenica 7 dicembre\, alle ore 18:30\, concerto di chiusura del
 la Stagione 2025 de “I Concerti dell’Accademia degli Sfaccendati”al 
 Palazzo Chigi di Ariccia\, la prestigiosa Rassegna Concertistica diretta d
 a Giovanna Manci e Giacomo Fasola.\n\nL’eccellente Quartetto Guadagnini\
 , formato da Fabrizio Zoffoli e Cristina Papini violini\, Matteo Rocchi vi
 ola\, Alessandra Cefaliello violoncello\, chiuderà in bellezza la stagion
 e concertistica 2025 proponendo due capolavori del repertorio novecentesco
  per Quartetto d’archi.\n\nDi Dmitri Shostakovich il Quartetto op.118 il
  decimo dei 15 quartetti da lui composti\, datato 1964\, pagina intrisa di
  lirismo malinconico e tensioni drammatiche\, specchio del clima politico 
 ed esistenziale in cui l’autore viveva\, e di Maurice Ravel il Quartetto
  per archi in fa maggiore\, del 1903\, la prima grande opera che rivela un
  compositore già maturo\, intenzionalmente temerario nel codice di lucida
  sfida all'impossibile\, di voluttà dell'artificio e della difficoltà ca
 lcolata\, cui rimarrà fedele fino all'ultimo.\n\nIl concerto ruota attorn
 o a Modernità e Memoria\, i due aspetti dell’Angelus Novus della musica
  che la bufera del Novecento trascina nel futuro col volto rivolto al pass
 ato.\n\nHa scritto Arnold Hauser: «L'esistenza riceve vita\, moto\, color
 e\, trasparenza ideale e contenuto spirituale solo dalla prospettiva di un
  presente che risulta dal nostro passato. Non c'è felicità fuor del rico
 rdo\, che risuscita\, ravviva\, conquista il tempo passato e perduto\; poi
 ché i veri paradisi sono quelli perduti\, come dice Proust».\n\n“I Con
 certi dell’Accademia degli Sfaccendati” sono organizzati dalla Coop Ar
 t di Roma\, per la Direzione Artistica di Giovanna Manci e Giacomo Fasola\
 , con il contributo ed il patrocinio del Ministero della Cultura\, della R
 egione Lazio e del Comune di Ariccia.\n\nInfo e prenotazioni: 3331375561 
 – 069398003\n\n&nbsp\;
ATTACH;FMTTYPE=image/jpeg:https://lazioeventi.com/wp-content/uploads/2025/
 12/concerto_7_dicembre2025.jpg
CATEGORIES:Musica, Spettacoli e Danza nel Lazio
LOCATION:Ariccia\, Comune\, Ariccia\, Roma\, Lazio\, Italia
GEO:41.72;12.671
X-APPLE-STRUCTURED-LOCATION;VALUE=URI;X-ADDRESS=Comune\, Ariccia\, Roma\, L
 azio\, Italia;X-APPLE-RADIUS=100;X-TITLE=Ariccia:geo:41.72,12.671
END:VEVENT
BEGIN:VTIMEZONE
TZID:Europe/Rome
X-LIC-LOCATION:Europe/Rome
BEGIN:STANDARD
DTSTART:20251026T020000
TZOFFSETFROM:+0200
TZOFFSETTO:+0100
TZNAME:CET
END:STANDARD
END:VTIMEZONE
END:VCALENDAR