BEGIN:VCALENDAR
VERSION:2.0
PRODID:-//wp-events-plugin.com//7.2.3.1//EN
TZID:Europe/Rome
X-WR-TIMEZONE:Europe/Rome
BEGIN:VEVENT
UID:35901@lazioeventi.com
DTSTART;TZID=Europe/Rome:20230707T190000
DTEND;TZID=Europe/Rome:20230707T203000
DTSTAMP:20230613T135116Z
URL:https://lazioeventi.com/eventi/il-re-degli-stracci-la-prima-indagine-d
 i-un-invisibile
SUMMARY:“Il re degli stracci. La prima indagine di un invisibile - Civita
 vecchia - 7 Luglio 23 19:00
DESCRIPTION:Per il quarto anno consecutivo\, l’associazione culturale Boo
 k Faces organizza la rassegna letteraria “Libri con le Stelle”. \nSeco
 ndo gli organizzatori\, la rassegna non sarà mai contraddistinta da un un
 ico genere\, ma potrà sempre contare su più generi letterari per poter i
 nteressare più persone possibili.\n\nL’edizione di questa estate 2023 s
 i sviluppa su cinque appuntamenti che si terranno presso il giardino del t
 eatro “Verdi”\, con ingresso da Viale della Vittoria 51. Negli anni pa
 ssati\, il giardino ha ospitato vari eventi\, distinguendosi sempre come u
 n salotto\, ideale per gli appuntamenti culturali.\n\nTutti gli incontri s
 aranno di venerdì con inizio alle ore 19.00. \n\nSi parte il 16 giugno co
 n Marco Pastonesi e il suo libro “Con il cuore nel fango. L’epica del 
 ciclismo nella storia del Cobra” (Rizzoli). \n\nIl giorno 7 luglio sarà
  la volta di Stefano Vicario con “Il re degli stracci. La prima indagine
  di un invisibile” (La nave di Teseo)\, mentre il 21 luglio Carmen Verde
  parlerà del suo romanzo “Una minima infelicità” (Neri Pozza). \n\nG
 li ultimi due appuntamenti della rassegna saranno il 4 agosto con Gabriell
 a Genisi e il suo ultimissimo romanzo “L’angelo di Castelforte” (Riz
 zoli)\, per concludersi il 25 agosto con Diego Zandel e il suo romanzo “
 Eredità colpevole” (Voland).\n\nAnche quest’anno\, “Libri con le St
 elle” può contare su molti sostenitori che hanno mostrato sensibilità 
 verso gli eventi letterari\, a iniziare dalla Fondazione Ca.Ri.Civ. per pr
 oseguire con Akros Bioscience\, Tecnofit srl\, Civitavecchia Rugby Centumc
 ellae\, Minosse srl\, Nausica srl\, Gruppo Immobiliare Bisozzi\, Unindustr
 ia Civitavecchia\, Carrozzeria Lanari\, Palestra VIP Club\, Studio dentist
 ico Daniela Leone\, Farmacia San Gordiano e Ristorante “Il Delfino”.\n
 \nLa vendita dei libri sarà garantita da Bookstore Mondadori e da Giunti 
 al Punto. \n\nTutti gli eventi saranno a ingresso gratuito. 
ATTACH;FMTTYPE=image/jpeg:https://lazioeventi.com/wp-content/uploads/2023/
 06/LIBRI-CON-LE-STELLE.jpg
CATEGORIES:Arte e Cultura nel Lazio
LOCATION:Civitavecchia\, Comune\, Civitavecchia\, Roma\, Lazio\, Italia
GEO:42.0911;11.7968
X-APPLE-STRUCTURED-LOCATION;VALUE=URI;X-ADDRESS=Comune\, Civitavecchia\, Ro
 ma\, Lazio\, Italia;X-APPLE-RADIUS=100;X-TITLE=Civitavecchia:geo:42.0911,1
 1.7968
END:VEVENT
BEGIN:VTIMEZONE
TZID:Europe/Rome
X-LIC-LOCATION:Europe/Rome
BEGIN:DAYLIGHT
DTSTART:20230326T030000
TZOFFSETFROM:+0100
TZOFFSETTO:+0200
TZNAME:CEST
END:DAYLIGHT
END:VTIMEZONE
END:VCALENDAR