BEGIN:VCALENDAR
VERSION:2.0
PRODID:-//wp-events-plugin.com//7.2.3.1//EN
TZID:Europe/Rome
X-WR-TIMEZONE:Europe/Rome
BEGIN:VEVENT
UID:29706@lazioeventi.com
DTSTART;TZID=Europe/Rome;VALUE=DATE:20220301
DTEND;TZID=Europe/Rome;VALUE=DATE:20220523
DTSTAMP:20220127T140545Z
URL:https://lazioeventi.com/eventi/il-sacro-e-la-natura
SUMMARY:Il Sacro e la Natura - Roma - 1 Marzo 22 00:00
DESCRIPTION:La mostra Guido Reni a Roma. Il Sacro e la Natura\, a cura di F
 rancesca Cappelletti\, si svolge dal 9 febbraio a maggio prossimo ed è in
 centrata sul dipinto Danza campestre di Guido Reni\, da un anno tornato a 
 fare parte della collezione del museo\, alla quale era sempre appartenuto 
 prima della vendita alla fine dell’Ottocento.\n\nIl rientro del quadro n
 elle sale della Palazzina Pinciana\, accanto agli altri dipinti di paesagg
 io della raccolta\, offre l’opportunità di riflettere sul rapporto di G
 uido Reni\, pittore molto amato da Scipione Borghese\, con il soggetto cam
 pestre e con la pittura di paesaggio\, finora ritenuti estranei alla sua p
 roduzione o comunque assai poco praticati.\n\nL’esposizione\, muovendo d
 all’interesse di Guido Reni per la pittura di paesaggio in rapporto agli
  altri pittori italiani e stranieri presenti a Roma nel primo Seicento\, c
 ercherà di ricostruire i primi anni del soggiorno romano dell’artista\,
  il suo appassionato studio delle opere rinascimentali e dell’antico\, i
 l rapporto importantissimo intessuto con il banchiere genovese Ottavio Cos
 ta e lo stordimento rispetto alla pittura fortemente chiaroscurata di Cara
 vaggio – che Reni ha conosciuto e frequentato\, come supposto da Carlo C
 esare Malvasia nella Felsina pittrice del 1678 e come documenti ritrovati 
 di recente hanno confermato – e l’inizio del suo folgorante percorso d
 i grande pittore di storia.
ATTACH;FMTTYPE=image/jpeg:https://lazioeventi.com/wp-content/uploads/2022/
 01/guido-reni.jpg
CATEGORIES:Arte e Cultura nel Lazio
LOCATION:Roma\, Via Leopardi\, Roma\, Roma\, Lazio\, Italia
GEO:41.8942;12.5017
X-APPLE-STRUCTURED-LOCATION;VALUE=URI;X-ADDRESS=Via Leopardi\, Roma\, Roma\
 , Lazio\, Italia;X-APPLE-RADIUS=100;X-TITLE=Roma:geo:41.8942,12.5017
END:VEVENT
BEGIN:VTIMEZONE
TZID:Europe/Rome
X-LIC-LOCATION:Europe/Rome
BEGIN:STANDARD
DTSTART:20211031T020000
TZOFFSETFROM:+0200
TZOFFSETTO:+0100
TZNAME:CET
END:STANDARD
BEGIN:DAYLIGHT
DTSTART:20220327T030000
TZOFFSETFROM:+0100
TZOFFSETTO:+0200
TZNAME:CEST
END:DAYLIGHT
END:VTIMEZONE
END:VCALENDAR